BEGIN:VCALENDAR
VERSION:2.0
PRODID:-//Warden Hill Primary School - ECPv6.15.20//NONSGML v1.0//EN
CALSCALE:GREGORIAN
METHOD:PUBLISH
X-ORIGINAL-URL:https://wardenhill.gloucs.sch.uk
X-WR-CALDESC:Events for Warden Hill Primary School
REFRESH-INTERVAL;VALUE=DURATION:PT1H
X-Robots-Tag:noindex
X-PUBLISHED-TTL:PT1H
BEGIN:VTIMEZONE
TZID:Europe/London
BEGIN:DAYLIGHT
TZOFFSETFROM:+0000
TZOFFSETTO:+0100
TZNAME:BST
DTSTART:20250330T010000
END:DAYLIGHT
BEGIN:STANDARD
TZOFFSETFROM:+0100
TZOFFSETTO:+0000
TZNAME:GMT
DTSTART:20251026T010000
END:STANDARD
BEGIN:DAYLIGHT
TZOFFSETFROM:+0000
TZOFFSETTO:+0100
TZNAME:BST
DTSTART:20260329T010000
END:DAYLIGHT
BEGIN:STANDARD
TZOFFSETFROM:+0100
TZOFFSETTO:+0000
TZNAME:GMT
DTSTART:20261025T010000
END:STANDARD
BEGIN:DAYLIGHT
TZOFFSETFROM:+0000
TZOFFSETTO:+0100
TZNAME:BST
DTSTART:20270328T010000
END:DAYLIGHT
BEGIN:STANDARD
TZOFFSETFROM:+0100
TZOFFSETTO:+0000
TZNAME:GMT
DTSTART:20271031T010000
END:STANDARD
END:VTIMEZONE
BEGIN:VEVENT
DTSTART;TZID=Europe/London:20260129T121500
DTEND;TZID=Europe/London:20260129T131500
DTSTAMP:20260421T094206
CREATED:20251127T144322Z
LAST-MODIFIED:20251127T144322Z
UID:10000767-1769688900-1769692500@wardenhill.gloucs.sch.uk
SUMMARY:Cross Country Club Y5 Y6
DESCRIPTION:
URL:https://wardenhill.gloucs.sch.uk/event/cross-country-club-y5-y6/2026-01-29/
LOCATION:Gloucestershire
CATEGORIES:Clubs,Year 5,Year 6
END:VEVENT
BEGIN:VEVENT
DTSTART;TZID=Europe/London:20260129T121500
DTEND;TZID=Europe/London:20260129T131500
DTSTAMP:20260421T094206
CREATED:20251215T094806Z
LAST-MODIFIED:20260224T085452Z
UID:10000867-1769688900-1769692500@wardenhill.gloucs.sch.uk
SUMMARY:Lunchtime Forest School: 4P
DESCRIPTION:
URL:https://wardenhill.gloucs.sch.uk/event/lunchtime-forest-school-4p/2026-01-29/
LOCATION:Gloucestershire
CATEGORIES:Forest School,Year 4
ATTACH;FMTTYPE=image/jpeg:https://wardenhill.gloucs.sch.uk/wp-content/uploads/2024/11/forest-school.jpg
END:VEVENT
BEGIN:VEVENT
DTSTART;TZID=Europe/London:20260129T151500
DTEND;TZID=Europe/London:20260129T161500
DTSTAMP:20260421T094206
CREATED:20251125T110703Z
LAST-MODIFIED:20260108T110039Z
UID:10000711-1769699700-1769703300@wardenhill.gloucs.sch.uk
SUMMARY:Table Tennis Y5
DESCRIPTION:
URL:https://wardenhill.gloucs.sch.uk/event/table-tennis-y5/2026-01-29/
LOCATION:Gloucestershire
CATEGORIES:Clubs,Year 5
END:VEVENT
BEGIN:VEVENT
DTSTART;TZID=Europe/London:20260129T151500
DTEND;TZID=Europe/London:20260129T161500
DTSTAMP:20260421T094206
CREATED:20251127T144211Z
LAST-MODIFIED:20251127T144211Z
UID:10000757-1769699700-1769703300@wardenhill.gloucs.sch.uk
SUMMARY:Craft Club Y2 Y3
DESCRIPTION:
URL:https://wardenhill.gloucs.sch.uk/event/craft-club-y2-y3/2026-01-29/
LOCATION:Gloucestershire
CATEGORIES:Clubs,Year 2,Year 3
END:VEVENT
BEGIN:VEVENT
DTSTART;TZID=Europe/London:20260129T151500
DTEND;TZID=Europe/London:20260129T161500
DTSTAMP:20260421T094206
CREATED:20251202T130524Z
LAST-MODIFIED:20251202T133915Z
UID:10000788-1769699700-1769703300@wardenhill.gloucs.sch.uk
SUMMARY:Football Club Y5 Y6
DESCRIPTION:
URL:https://wardenhill.gloucs.sch.uk/event/football-club-y5-y6/2026-01-29/
LOCATION:Gloucestershire
CATEGORIES:Clubs,Year 5,Year 6
ATTACH;FMTTYPE=image/jpeg:https://wardenhill.gloucs.sch.uk/wp-content/uploads/2025/03/football.jpg
END:VEVENT
BEGIN:VEVENT
DTSTART;TZID=Europe/London:20260129T190000
DTEND;TZID=Europe/London:20260129T200000
DTSTAMP:20260421T094206
CREATED:20251218T121422Z
LAST-MODIFIED:20260128T123939Z
UID:10000904-1769713200-1769716800@wardenhill.gloucs.sch.uk
SUMMARY:Online Safety Evening
DESCRIPTION:Parents are invited to attend a talk delivered by PC Simon Williams offering sensible advice on our children’s use of the internet outside of school and the risks to which they may be exposed. He will offer useful\, up to date advice on how to keep your children safe when online\, covering issues such as social media apps\, cyberbullying\, location services / settings\, parental controls and passwords. \n\nThursday 29th January 2026 | 7:00pm\nTopic: Online Safety delivered by PC Simon Williams. Practical advice and tips to keep children safe online.
URL:https://wardenhill.gloucs.sch.uk/event/cuppa-and-connect-4/
LOCATION:Gloucestershire
CATEGORIES:Parents
END:VEVENT
END:VCALENDAR