BEGIN:VCALENDAR
VERSION:2.0
PRODID:-//Warden Hill Primary School - ECPv6.15.20//NONSGML v1.0//EN
CALSCALE:GREGORIAN
METHOD:PUBLISH
X-WR-CALNAME:Warden Hill Primary School
X-ORIGINAL-URL:https://wardenhill.gloucs.sch.uk
X-WR-CALDESC:Events for Warden Hill Primary School
REFRESH-INTERVAL;VALUE=DURATION:PT1H
X-Robots-Tag:noindex
X-PUBLISHED-TTL:PT1H
BEGIN:VTIMEZONE
TZID:Europe/London
BEGIN:DAYLIGHT
TZOFFSETFROM:+0000
TZOFFSETTO:+0100
TZNAME:BST
DTSTART:20250330T010000
END:DAYLIGHT
BEGIN:STANDARD
TZOFFSETFROM:+0100
TZOFFSETTO:+0000
TZNAME:GMT
DTSTART:20251026T010000
END:STANDARD
BEGIN:DAYLIGHT
TZOFFSETFROM:+0000
TZOFFSETTO:+0100
TZNAME:BST
DTSTART:20260329T010000
END:DAYLIGHT
BEGIN:STANDARD
TZOFFSETFROM:+0100
TZOFFSETTO:+0000
TZNAME:GMT
DTSTART:20261025T010000
END:STANDARD
BEGIN:DAYLIGHT
TZOFFSETFROM:+0000
TZOFFSETTO:+0100
TZNAME:BST
DTSTART:20270328T010000
END:DAYLIGHT
BEGIN:STANDARD
TZOFFSETFROM:+0100
TZOFFSETTO:+0000
TZNAME:GMT
DTSTART:20271031T010000
END:STANDARD
END:VTIMEZONE
BEGIN:VEVENT
DTSTART;VALUE=DATE:20260306
DTEND;VALUE=DATE:20260316
DTSTAMP:20260419T150314
CREATED:20260114T091213Z
LAST-MODIFIED:20260114T091623Z
UID:10000918-1772755200-1773619199@wardenhill.gloucs.sch.uk
SUMMARY:British Science Week
DESCRIPTION:The theme for 2026 is ‘Curiosity: what’s your question?’. \nThis theme is all about getting you thinking about what you most want to know about the world\, and how you could find out. We can’t wait to hear your questions\, and the see the activities and events you plan around them. \n  \nDownload your activity pack
URL:https://wardenhill.gloucs.sch.uk/event/british-science-week/
CATEGORIES:Whole School
ATTACH;FMTTYPE=image/jpeg:https://wardenhill.gloucs.sch.uk/wp-content/uploads/2026/01/bsw.jpg
END:VEVENT
BEGIN:VEVENT
DTSTART;VALUE=DATE:20260310
DTEND;VALUE=DATE:20260314
DTSTAMP:20260419T150314
CREATED:20260112T090923Z
LAST-MODIFIED:20260313T152723Z
UID:10000910-1773100800-1773446399@wardenhill.gloucs.sch.uk
SUMMARY:Doddie's Triple Crown
DESCRIPTION:Just Giving: Doddie’s Dawn Patrol\n					\n		https://wardenhill.gloucs.sch.uk/wp-content/uploads/2026/01/VIDEO-2026-03-13-15-06-03.mp4
URL:https://wardenhill.gloucs.sch.uk/event/doddies-triple-crown/
CATEGORIES:Parents,Whole School
ATTACH;FMTTYPE=image/png:https://wardenhill.gloucs.sch.uk/wp-content/uploads/2026/01/mnd2026.png
END:VEVENT
BEGIN:VEVENT
DTSTART;TZID=Europe/London:20260310T083000
DTEND;TZID=Europe/London:20260310T084000
DTSTAMP:20260419T150314
CREATED:20251217T140907Z
LAST-MODIFIED:20251217T140907Z
UID:10000889-1773131400-1773132000@wardenhill.gloucs.sch.uk
SUMMARY:Spotlight Showcase YR Y4
DESCRIPTION:
URL:https://wardenhill.gloucs.sch.uk/event/spotlight-showcase-yr-y4-3/
CATEGORIES:Reception,Year 4
END:VEVENT
BEGIN:VEVENT
DTSTART;TZID=Europe/London:20260310T121500
DTEND;TZID=Europe/London:20260310T131500
DTSTAMP:20260419T150314
CREATED:20251127T143821Z
LAST-MODIFIED:20251127T150051Z
UID:10000752-1773144900-1773148500@wardenhill.gloucs.sch.uk
SUMMARY:Chess Club Y3 Y4 Y5 Y6
DESCRIPTION:
URL:https://wardenhill.gloucs.sch.uk/event/chess-club-y3-y4-y5-y6/2026-03-10/
CATEGORIES:Clubs,Year 3,Year 4,Year 5,Year 6
END:VEVENT
BEGIN:VEVENT
DTSTART;TZID=Europe/London:20260310T151500
DTEND;TZID=Europe/London:20260310T160000
DTSTAMP:20260419T150314
CREATED:20251125T110501Z
LAST-MODIFIED:20260319T090046Z
UID:10000706-1773155700-1773158400@wardenhill.gloucs.sch.uk
SUMMARY:Colouring Club YR
DESCRIPTION:
URL:https://wardenhill.gloucs.sch.uk/event/colouring-club-yr/2026-03-10/
CATEGORIES:Clubs,Reception
END:VEVENT
BEGIN:VEVENT
DTSTART;TZID=Europe/London:20260310T151500
DTEND;TZID=Europe/London:20260310T161500
DTSTAMP:20260419T150314
CREATED:20251125T110143Z
LAST-MODIFIED:20251125T110143Z
UID:10000676-1773155700-1773159300@wardenhill.gloucs.sch.uk
SUMMARY:Dodgeball Club Y3 Y4 Y5 Y6
DESCRIPTION:
URL:https://wardenhill.gloucs.sch.uk/event/dodgeball-club-y3-y4-y5-y6-2/2026-03-10/
CATEGORIES:Clubs,Year 3,Year 4,Year 5,Year 6
END:VEVENT
BEGIN:VEVENT
DTSTART;TZID=Europe/London:20260310T151500
DTEND;TZID=Europe/London:20260310T161500
DTSTAMP:20260419T150314
CREATED:20251125T110238Z
LAST-MODIFIED:20251125T110238Z
UID:10000686-1773155700-1773159300@wardenhill.gloucs.sch.uk
SUMMARY:Netball Club Y5 Y6
DESCRIPTION:
URL:https://wardenhill.gloucs.sch.uk/event/netball-club-y5-y6-2/2026-03-10/
END:VEVENT
BEGIN:VEVENT
DTSTART;TZID=Europe/London:20260310T151500
DTEND;TZID=Europe/London:20260310T161500
DTSTAMP:20260419T150314
CREATED:20251125T110342Z
LAST-MODIFIED:20260108T105952Z
UID:10000696-1773155700-1773159300@wardenhill.gloucs.sch.uk
SUMMARY:Drama Club Y5 Y6
DESCRIPTION:
URL:https://wardenhill.gloucs.sch.uk/event/drama-club-y5-y6-3/2026-03-10/
CATEGORIES:Clubs,Year 5,Year 6
END:VEVENT
BEGIN:VEVENT
DTSTART;TZID=Europe/London:20260310T151500
DTEND;TZID=Europe/London:20260310T161500
DTSTAMP:20260419T150314
CREATED:20251126T094849Z
LAST-MODIFIED:20251126T094934Z
UID:10000736-1773155700-1773159300@wardenhill.gloucs.sch.uk
SUMMARY:Singing Club
DESCRIPTION:
URL:https://wardenhill.gloucs.sch.uk/event/singing-club/2026-03-10/
CATEGORIES:Clubs,Year 3,Year 4,Year 5,Year 6
END:VEVENT
BEGIN:VEVENT
DTSTART;TZID=Europe/London:20260310T152000
DTEND;TZID=Europe/London:20260310T162000
DTSTAMP:20260419T150314
CREATED:20260122T095857Z
LAST-MODIFIED:20260122T102134Z
UID:10000939-1773156000-1773159600@wardenhill.gloucs.sch.uk
SUMMARY:Jam Coding Stop Motion Animation Club KS1
DESCRIPTION:Jam Coding Stop Motion KS1 \nSign Up here: https://portal.jamcoding.franscape.io/class-overview/5551 \n \n 
URL:https://wardenhill.gloucs.sch.uk/event/stop-motion-animation-club-ks1/2026-03-10/
CATEGORIES:Clubs,Year 1,Year 2
ATTACH;FMTTYPE=image/jpeg:https://wardenhill.gloucs.sch.uk/wp-content/uploads/2026/01/jam-coding.jpg
END:VEVENT
END:VCALENDAR