BEGIN:VCALENDAR
VERSION:2.0
PRODID:-//Warden Hill Primary School - ECPv6.15.20//NONSGML v1.0//EN
CALSCALE:GREGORIAN
METHOD:PUBLISH
X-WR-CALNAME:Warden Hill Primary School
X-ORIGINAL-URL:https://wardenhill.gloucs.sch.uk
X-WR-CALDESC:Events for Warden Hill Primary School
REFRESH-INTERVAL;VALUE=DURATION:PT1H
X-Robots-Tag:noindex
X-PUBLISHED-TTL:PT1H
BEGIN:VTIMEZONE
TZID:Europe/London
BEGIN:DAYLIGHT
TZOFFSETFROM:+0000
TZOFFSETTO:+0100
TZNAME:BST
DTSTART:20250330T010000
END:DAYLIGHT
BEGIN:STANDARD
TZOFFSETFROM:+0100
TZOFFSETTO:+0000
TZNAME:GMT
DTSTART:20251026T010000
END:STANDARD
BEGIN:DAYLIGHT
TZOFFSETFROM:+0000
TZOFFSETTO:+0100
TZNAME:BST
DTSTART:20260329T010000
END:DAYLIGHT
BEGIN:STANDARD
TZOFFSETFROM:+0100
TZOFFSETTO:+0000
TZNAME:GMT
DTSTART:20261025T010000
END:STANDARD
BEGIN:DAYLIGHT
TZOFFSETFROM:+0000
TZOFFSETTO:+0100
TZNAME:BST
DTSTART:20270328T010000
END:DAYLIGHT
BEGIN:STANDARD
TZOFFSETFROM:+0100
TZOFFSETTO:+0000
TZNAME:GMT
DTSTART:20271031T010000
END:STANDARD
END:VTIMEZONE
BEGIN:VEVENT
DTSTART;VALUE=DATE:20260421
DTEND;VALUE=DATE:20260422
DTSTAMP:20260421T024032
CREATED:20260420T090129Z
LAST-MODIFIED:20260420T090129Z
UID:10001146-1776729600-1776815999@wardenhill.gloucs.sch.uk
SUMMARY:Reception Balanceability
DESCRIPTION:Rearranged Final Balanceability Session  \nChildren should come to school wearing their PE kit and trainers. They may also bring their own bike helmet\, as they did last week. \nChildren who have a pedal bike (without stabilisers) and are able to ride unaided are welcome to bring their bikes in and leave them in the bike rack as you enter school. Please let us know at the gate on drop-off if your child has brought their bike into school. \nBringing in a pedal bike is optional and not required for everyone. The children will still participate in the session without their own bike and we do have some pedal bikes available for children who feel confident and would like to have a go.
URL:https://wardenhill.gloucs.sch.uk/event/reception-balanceability/
LOCATION:Warden Hill Primary School\, Durham Close\, Cheltenham\, Gloucestershire\, GL51 3DF\, United Kingdom
CATEGORIES:Reception
END:VEVENT
BEGIN:VEVENT
DTSTART;TZID=Europe/London:20260421T133000
DTEND;TZID=Europe/London:20260421T143000
DTSTAMP:20260421T024032
CREATED:20260120T114645Z
LAST-MODIFIED:20260120T114645Z
UID:10000925-1776778200-1776781800@wardenhill.gloucs.sch.uk
SUMMARY:5P Swimming
DESCRIPTION:Each Year 5 class will have five hour-long lessons at the Brockworth Sports Centre. \nSwimming Letter to Parents 17 October 2025
URL:https://wardenhill.gloucs.sch.uk/event/5p-swimming-2/2026-04-21/
LOCATION:Halo Brockworth Sports Centre\, Mill Lane\, Brockworth\, GL3 4QB
CATEGORIES:Year 5
ATTACH;FMTTYPE=image/jpeg:https://wardenhill.gloucs.sch.uk/wp-content/uploads/2025/01/swimming.jpg
END:VEVENT
BEGIN:VEVENT
DTSTART;TZID=Europe/London:20260421T151500
DTEND;TZID=Europe/London:20260421T161500
DTSTAMP:20260421T024032
CREATED:20260311T104102Z
LAST-MODIFIED:20260312T130325Z
UID:10001045-1776784500-1776788100@wardenhill.gloucs.sch.uk
SUMMARY:Jam Coding Game Building Club Year 1 and Year 2
DESCRIPTION:Jam Coding Game Building Year 1 and Year 2
URL:https://wardenhill.gloucs.sch.uk/event/jam-coding-game-building-club-year-1-and-year-2/2026-04-21/
LOCATION:Warden Hill Primary School\, Durham Close\, Cheltenham\, Gloucestershire\, GL51 3DF\, United Kingdom
CATEGORIES:Year 1,Year 2
ATTACH;FMTTYPE=image/jpeg:https://wardenhill.gloucs.sch.uk/wp-content/uploads/2026/01/jam-coding.jpg
END:VEVENT
BEGIN:VEVENT
DTSTART;TZID=Europe/London:20260421T170000
DTEND;TZID=Europe/London:20260421T173000
DTSTAMP:20260421T024032
CREATED:20260324T101229Z
LAST-MODIFIED:20260420T123816Z
UID:10001101-1776790800-1776792600@wardenhill.gloucs.sch.uk
SUMMARY:PGL 2027 Information Evening
DESCRIPTION:
URL:https://wardenhill.gloucs.sch.uk/event/pgl-2027-information-evening/
LOCATION:Gloucestershire
CATEGORIES:Year 5
END:VEVENT
END:VCALENDAR