BEGIN:VCALENDAR
VERSION:2.0
PRODID:-//Warden Hill Primary School - ECPv6.15.20//NONSGML v1.0//EN
CALSCALE:GREGORIAN
METHOD:PUBLISH
X-WR-CALNAME:Warden Hill Primary School
X-ORIGINAL-URL:https://wardenhill.gloucs.sch.uk
X-WR-CALDESC:Events for Warden Hill Primary School
REFRESH-INTERVAL;VALUE=DURATION:PT1H
X-Robots-Tag:noindex
X-PUBLISHED-TTL:PT1H
BEGIN:VTIMEZONE
TZID:Europe/London
BEGIN:DAYLIGHT
TZOFFSETFROM:+0000
TZOFFSETTO:+0100
TZNAME:BST
DTSTART:20250330T010000
END:DAYLIGHT
BEGIN:STANDARD
TZOFFSETFROM:+0100
TZOFFSETTO:+0000
TZNAME:GMT
DTSTART:20251026T010000
END:STANDARD
BEGIN:DAYLIGHT
TZOFFSETFROM:+0000
TZOFFSETTO:+0100
TZNAME:BST
DTSTART:20260329T010000
END:DAYLIGHT
BEGIN:STANDARD
TZOFFSETFROM:+0100
TZOFFSETTO:+0000
TZNAME:GMT
DTSTART:20261025T010000
END:STANDARD
BEGIN:DAYLIGHT
TZOFFSETFROM:+0000
TZOFFSETTO:+0100
TZNAME:BST
DTSTART:20270328T010000
END:DAYLIGHT
BEGIN:STANDARD
TZOFFSETFROM:+0100
TZOFFSETTO:+0000
TZNAME:GMT
DTSTART:20271031T010000
END:STANDARD
END:VTIMEZONE
BEGIN:VEVENT
DTSTART;VALUE=DATE:20260422
DTEND;VALUE=DATE:20260423
DTSTAMP:20260422T015212
CREATED:20260415T112746Z
LAST-MODIFIED:20260415T113947Z
UID:10001132-1776816000-1776902399@wardenhill.gloucs.sch.uk
SUMMARY:STEM Day
DESCRIPTION:I am pleased to share with you an exciting opportunity taking place at Warden Hill Primary School which reflects our ongoing commitment to high quality education and the future of the teaching profession. On Wednesday 29 April at 9.30am\, Warden Hill will be hosting a Primary Teacher Training Information Morning in partnership with the Odyssey Teaching School Hub. This event is designed for anyone considering a career in teaching\, including parents\, carers\, friends of the school or members of our wider community who may be interested in training to teach locally Those attending will have the opportunity to: • Talk with current teachers and trainee teachers about their experiences• Learn about the different teacher training routes available in Gloucestershire• Observe lessons in school and ask questions about life in the classroom As a school\, we are proud to play an active role in supporting teacher training and helping develop the next generation of skilled\, enthusiastic teachers. Events such as this strengthen the profession locally and\, in turn\, benefit schools and children across our community.If this is something that may be of interest to you or someone you know\, further information and booking details can be found via www.odysseytsh.org\, or by contacting admin@odysseytsh.org / 01242 538 240. 								\n				\n					\n				\n		\n					\n				\n				\n																\n															\n															\n				\n				\n				\n									\n					\n						\n									www.odysseytsh.org
URL:https://wardenhill.gloucs.sch.uk/event/stem-day-2/
LOCATION:Gloucestershire
CATEGORIES:Whole School
ATTACH;FMTTYPE=image/jpeg:https://wardenhill.gloucs.sch.uk/wp-content/uploads/2025/03/stem-day.jpg
END:VEVENT
BEGIN:VEVENT
DTSTART;TZID=Europe/London:20260422T093000
DTEND;TZID=Europe/London:20260422T150000
DTSTAMP:20260422T015212
CREATED:20260414T100716Z
LAST-MODIFIED:20260414T100716Z
UID:10001126-1776850200-1776870000@wardenhill.gloucs.sch.uk
SUMMARY:Tag Rugby Tournament
DESCRIPTION:I am pleased to share with you an exciting opportunity taking place at Warden Hill Primary School which reflects our ongoing commitment to high quality education and the future of the teaching profession. On Wednesday 29 April at 9.30am\, Warden Hill will be hosting a Primary Teacher Training Information Morning in partnership with the Odyssey Teaching School Hub. This event is designed for anyone considering a career in teaching\, including parents\, carers\, friends of the school or members of our wider community who may be interested in training to teach locally Those attending will have the opportunity to: • Talk with current teachers and trainee teachers about their experiences• Learn about the different teacher training routes available in Gloucestershire• Observe lessons in school and ask questions about life in the classroom As a school\, we are proud to play an active role in supporting teacher training and helping develop the next generation of skilled\, enthusiastic teachers. Events such as this strengthen the profession locally and\, in turn\, benefit schools and children across our community.If this is something that may be of interest to you or someone you know\, further information and booking details can be found via www.odysseytsh.org\, or by contacting admin@odysseytsh.org / 01242 538 240. 								\n				\n					\n				\n		\n					\n				\n				\n																\n															\n															\n				\n				\n				\n									\n					\n						\n									www.odysseytsh.org
URL:https://wardenhill.gloucs.sch.uk/event/tag-rugby-tournament/
LOCATION:Newlands Park\, Cheltenham Tigers RFC Southam Lane\, Cheltenham\, GL52 3PE\, United Kingdom
ATTACH;FMTTYPE=image/jpeg:https://wardenhill.gloucs.sch.uk/wp-content/uploads/2025/10/rugby.jpg
END:VEVENT
BEGIN:VEVENT
DTSTART;TZID=Europe/London:20260422T151500
DTEND;TZID=Europe/London:20260422T161500
DTSTAMP:20260422T015212
CREATED:20260323T155036Z
LAST-MODIFIED:20260323T162855Z
UID:10001095-1776870900-1776874500@wardenhill.gloucs.sch.uk
SUMMARY:Fun Science Club
DESCRIPTION:I am pleased to share with you an exciting opportunity taking place at Warden Hill Primary School which reflects our ongoing commitment to high quality education and the future of the teaching profession. On Wednesday 29 April at 9.30am\, Warden Hill will be hosting a Primary Teacher Training Information Morning in partnership with the Odyssey Teaching School Hub. This event is designed for anyone considering a career in teaching\, including parents\, carers\, friends of the school or members of our wider community who may be interested in training to teach locally Those attending will have the opportunity to: • Talk with current teachers and trainee teachers about their experiences• Learn about the different teacher training routes available in Gloucestershire• Observe lessons in school and ask questions about life in the classroom As a school\, we are proud to play an active role in supporting teacher training and helping develop the next generation of skilled\, enthusiastic teachers. Events such as this strengthen the profession locally and\, in turn\, benefit schools and children across our community.If this is something that may be of interest to you or someone you know\, further information and booking details can be found via www.odysseytsh.org\, or by contacting admin@odysseytsh.org / 01242 538 240. 								\n				\n					\n				\n		\n					\n				\n				\n																\n															\n															\n				\n				\n				\n									\n					\n						\n									www.odysseytsh.org
URL:https://wardenhill.gloucs.sch.uk/event/fun-science-club/2026-04-22/
LOCATION:Gloucestershire
CATEGORIES:Clubs,Year 3,Year 4,Year 5,Year 6
END:VEVENT
END:VCALENDAR