BEGIN:VCALENDAR
VERSION:2.0
PRODID:-//Warden Hill Primary School - ECPv6.15.20//NONSGML v1.0//EN
CALSCALE:GREGORIAN
METHOD:PUBLISH
X-ORIGINAL-URL:https://wardenhill.gloucs.sch.uk
X-WR-CALDESC:Events for Warden Hill Primary School
REFRESH-INTERVAL;VALUE=DURATION:PT1H
X-Robots-Tag:noindex
X-PUBLISHED-TTL:PT1H
BEGIN:VTIMEZONE
TZID:Europe/London
BEGIN:DAYLIGHT
TZOFFSETFROM:+0000
TZOFFSETTO:+0100
TZNAME:BST
DTSTART:20240331T010000
END:DAYLIGHT
BEGIN:STANDARD
TZOFFSETFROM:+0100
TZOFFSETTO:+0000
TZNAME:GMT
DTSTART:20241027T010000
END:STANDARD
BEGIN:DAYLIGHT
TZOFFSETFROM:+0000
TZOFFSETTO:+0100
TZNAME:BST
DTSTART:20250330T010000
END:DAYLIGHT
BEGIN:STANDARD
TZOFFSETFROM:+0100
TZOFFSETTO:+0000
TZNAME:GMT
DTSTART:20251026T010000
END:STANDARD
BEGIN:DAYLIGHT
TZOFFSETFROM:+0000
TZOFFSETTO:+0100
TZNAME:BST
DTSTART:20260329T010000
END:DAYLIGHT
BEGIN:STANDARD
TZOFFSETFROM:+0100
TZOFFSETTO:+0000
TZNAME:GMT
DTSTART:20261025T010000
END:STANDARD
END:VTIMEZONE
BEGIN:VEVENT
DTSTART;TZID=Europe/London:20250408T083000
DTEND;TZID=Europe/London:20250408T084000
DTSTAMP:20260422T004925
CREATED:20250313T102058Z
LAST-MODIFIED:20250313T102058Z
UID:10000164-1744101000-1744101600@wardenhill.gloucs.sch.uk
SUMMARY:Spotlight Showcase: YR\, Y4
DESCRIPTION:After running successfully in the autumn term\, we would like to share with you dates for this term’s Spotlight Showcase – where you can pop in to share and celebrate your child’s work before school. Please note that unfortunately we cannot facilitate the copying of work\, should you be unable to attend the session. Classrooms will be open from 8:30 until 8:40 to ensure we can register the children as normal by 8:45am.
URL:https://wardenhill.gloucs.sch.uk/event/spotlight-showcase-yr-y4/
CATEGORIES:Reception,Year 4
END:VEVENT
BEGIN:VEVENT
DTSTART;VALUE=DATE:20250409
DTEND;VALUE=DATE:20250413
DTSTAMP:20260422T004925
CREATED:20250117T130430Z
LAST-MODIFIED:20250313T102452Z
UID:10000088-1744160400-1744419599@wardenhill.gloucs.sch.uk
SUMMARY:Year 4 Residential
DESCRIPTION:Letter to parents with kit list \nConsent Form \n  \nhttps://schoolsandgroups.pgl.co.uk/centres/liddington/ \nParent Guide
URL:https://wardenhill.gloucs.sch.uk/event/year-4-residential/
CATEGORIES:Year 4
ATTACH;FMTTYPE=image/png:https://wardenhill.gloucs.sch.uk/wp-content/uploads/2025/01/liddington-pgl.png
END:VEVENT
END:VCALENDAR