BEGIN:VCALENDAR
VERSION:2.0
PRODID:-//Warden Hill Primary School - ECPv6.15.20//NONSGML v1.0//EN
CALSCALE:GREGORIAN
METHOD:PUBLISH
X-WR-CALNAME:Warden Hill Primary School
X-ORIGINAL-URL:https://wardenhill.gloucs.sch.uk
X-WR-CALDESC:Events for Warden Hill Primary School
REFRESH-INTERVAL;VALUE=DURATION:PT1H
X-Robots-Tag:noindex
X-PUBLISHED-TTL:PT1H
BEGIN:VTIMEZONE
TZID:Europe/London
BEGIN:DAYLIGHT
TZOFFSETFROM:+0000
TZOFFSETTO:+0100
TZNAME:BST
DTSTART:20250330T010000
END:DAYLIGHT
BEGIN:STANDARD
TZOFFSETFROM:+0100
TZOFFSETTO:+0000
TZNAME:GMT
DTSTART:20251026T010000
END:STANDARD
BEGIN:DAYLIGHT
TZOFFSETFROM:+0000
TZOFFSETTO:+0100
TZNAME:BST
DTSTART:20260329T010000
END:DAYLIGHT
BEGIN:STANDARD
TZOFFSETFROM:+0100
TZOFFSETTO:+0000
TZNAME:GMT
DTSTART:20261025T010000
END:STANDARD
BEGIN:DAYLIGHT
TZOFFSETFROM:+0000
TZOFFSETTO:+0100
TZNAME:BST
DTSTART:20270328T010000
END:DAYLIGHT
BEGIN:STANDARD
TZOFFSETFROM:+0100
TZOFFSETTO:+0000
TZNAME:GMT
DTSTART:20271031T010000
END:STANDARD
END:VTIMEZONE
BEGIN:VEVENT
DTSTART;TZID=Europe/London:20260515T152000
DTEND;TZID=Europe/London:20260515T162000
DTSTAMP:20260421T230910
CREATED:20260311T110231Z
LAST-MODIFIED:20260312T151945Z
UID:10001054-1778858400-1778862000@wardenhill.gloucs.sch.uk
SUMMARY:Jam Coding Minecraft Escape Rooms KS2
DESCRIPTION:Jam Coding Minecraft Escape rooms Years 3-6_
URL:https://wardenhill.gloucs.sch.uk/event/jam-coding-minecraft-escape-rooms-ks2/2026-05-15/
LOCATION:Warden Hill Primary School\, Durham Close\, Cheltenham\, Gloucestershire\, GL51 3DF\, United Kingdom
CATEGORIES:Year 3,Year 4,Year 5,Year 6
ATTACH;FMTTYPE=image/jpeg:https://wardenhill.gloucs.sch.uk/wp-content/uploads/2026/01/jam-coding.jpg
END:VEVENT
BEGIN:VEVENT
DTSTART;TZID=Europe/London:20260519T134500
DTEND;TZID=Europe/London:20260519T150000
DTSTAMP:20260421T230910
CREATED:20260327T131524Z
LAST-MODIFIED:20260327T131524Z
UID:10001105-1779198300-1779202800@wardenhill.gloucs.sch.uk
SUMMARY:Y3 and Y4 Sports Day
DESCRIPTION:
URL:https://wardenhill.gloucs.sch.uk/event/y3-and-y4-sports-day/
CATEGORIES:Year 3,Year 4
END:VEVENT
BEGIN:VEVENT
DTSTART;TZID=Europe/London:20260520T151500
DTEND;TZID=Europe/London:20260520T161500
DTSTAMP:20260421T230910
CREATED:20260323T155036Z
LAST-MODIFIED:20260323T162855Z
UID:10001099-1779290100-1779293700@wardenhill.gloucs.sch.uk
SUMMARY:Fun Science Club
DESCRIPTION:Fun Science Club Information \nHello! \nWe’re pleased to say that Fun Science UK’s exciting after-school STEM sessions will return to Warden Hill Primary School in April-May of 2026!\nWould your child like to join us for some MORE exciting experiments? If so\, there are just 20 places\, so don’t delay! \n● Eligibility: Year 3–Year 6 (KS2)\n● Time: 3.15–4.15pm\, Wednesdays\n● Dates: 15 April–20 May\n● Cost: Just £48 for six sessions!\n● Book: tinyurl.com/wardh26\n● Capacity: 20 places \nFun Science Cheltenham has been hosting five-star\, STEM-themed holiday clubs\, after-school clubs\, workshops and parties in Gloucestershire since 2020. See www.fun-science.org.uk for info. \nHope your child can join us\,\nDiatom Dave\nChief Fun Scientist \n● Missed out? Email cheltenham@fun-science.org.uk to be put on the waiting list.\n● Book only when you know your child can attend: cancelled places may be billed for.\n● T&Cs: tinyurl.com/funsciterms. Booking acknowledges reading and understanding. \nPlease note: If your child has any additional support in class\, you must make us aware for safeguarding reasons. Failure to do so may mean your child is excluded at a later date\, in which case no refund will be offered. Please help us keep all children safe and well.
URL:https://wardenhill.gloucs.sch.uk/event/fun-science-club/2026-05-20/
CATEGORIES:Clubs,Year 3,Year 4,Year 5,Year 6
END:VEVENT
BEGIN:VEVENT
DTSTART;TZID=Europe/London:20260522T152000
DTEND;TZID=Europe/London:20260522T162000
DTSTAMP:20260421T230910
CREATED:20260311T110231Z
LAST-MODIFIED:20260312T151945Z
UID:10001055-1779463200-1779466800@wardenhill.gloucs.sch.uk
SUMMARY:Jam Coding Minecraft Escape Rooms KS2
DESCRIPTION:Jam Coding Minecraft Escape rooms Years 3-6_
URL:https://wardenhill.gloucs.sch.uk/event/jam-coding-minecraft-escape-rooms-ks2/2026-05-22/
LOCATION:Warden Hill Primary School\, Durham Close\, Cheltenham\, Gloucestershire\, GL51 3DF\, United Kingdom
CATEGORIES:Year 3,Year 4,Year 5,Year 6
ATTACH;FMTTYPE=image/jpeg:https://wardenhill.gloucs.sch.uk/wp-content/uploads/2026/01/jam-coding.jpg
END:VEVENT
BEGIN:VEVENT
DTSTART;TZID=Europe/London:20260602T093000
DTEND;TZID=Europe/London:20260602T123000
DTSTAMP:20260421T230910
CREATED:20260210T093709Z
LAST-MODIFIED:20260210T100946Z
UID:10000982-1780392600-1780403400@wardenhill.gloucs.sch.uk
SUMMARY:Y4: Science Festival: It's Only Water
DESCRIPTION:Splash into the world of water with Science Made Simple! How does water freeze? Why do things float? This demo-filled show reveals water’s hidden powers and helps you understand the science behind this incredible substance… and maybe get a little bit wet along the way!
URL:https://wardenhill.gloucs.sch.uk/event/y4-science-festival-its-only-water/
CATEGORIES:Year 4
ATTACH;FMTTYPE=image/jpeg:https://wardenhill.gloucs.sch.uk/wp-content/uploads/2026/02/Cheltenham-Science-Festival-2026.jpg
END:VEVENT
BEGIN:VEVENT
DTSTART;VALUE=DATE:20260603
DTEND;VALUE=DATE:20260604
DTSTAMP:20260421T230910
CREATED:20251218T105001Z
LAST-MODIFIED:20260114T111059Z
UID:10000903-1780444800-1780531199@wardenhill.gloucs.sch.uk
SUMMARY:Y4 GWSR Evacuation Experience Trip
DESCRIPTION:We will be ‘evacuating’ our Year 4 children this summer! This trip ties in with our class read ‘The Valley of Lost Secrets’\, our English writing and our history unit on World War II. It promises to be an educational and immersive experience. \nWe are asking the children to come dressed as evacuees to fully experience life in the 1940s. \nLetter to Parents
URL:https://wardenhill.gloucs.sch.uk/event/y4-gwsr-trip/
LOCATION:Winchcombe Railway Station\, Greet\, Winchcombe\, GL54 5LD
CATEGORIES:Year 4
END:VEVENT
END:VCALENDAR