BEGIN:VCALENDAR
VERSION:2.0
PRODID:-//Warden Hill Primary School - ECPv6.15.20//NONSGML v1.0//EN
CALSCALE:GREGORIAN
METHOD:PUBLISH
X-ORIGINAL-URL:https://wardenhill.gloucs.sch.uk
X-WR-CALDESC:Events for Warden Hill Primary School
REFRESH-INTERVAL;VALUE=DURATION:PT1H
X-Robots-Tag:noindex
X-PUBLISHED-TTL:PT1H
BEGIN:VTIMEZONE
TZID:Europe/London
BEGIN:DAYLIGHT
TZOFFSETFROM:+0000
TZOFFSETTO:+0100
TZNAME:BST
DTSTART:20250330T010000
END:DAYLIGHT
BEGIN:STANDARD
TZOFFSETFROM:+0100
TZOFFSETTO:+0000
TZNAME:GMT
DTSTART:20251026T010000
END:STANDARD
BEGIN:DAYLIGHT
TZOFFSETFROM:+0000
TZOFFSETTO:+0100
TZNAME:BST
DTSTART:20260329T010000
END:DAYLIGHT
BEGIN:STANDARD
TZOFFSETFROM:+0100
TZOFFSETTO:+0000
TZNAME:GMT
DTSTART:20261025T010000
END:STANDARD
BEGIN:DAYLIGHT
TZOFFSETFROM:+0000
TZOFFSETTO:+0100
TZNAME:BST
DTSTART:20270328T010000
END:DAYLIGHT
BEGIN:STANDARD
TZOFFSETFROM:+0100
TZOFFSETTO:+0000
TZNAME:GMT
DTSTART:20271031T010000
END:STANDARD
END:VTIMEZONE
BEGIN:VEVENT
DTSTART;TZID=Europe/London:20260227T121500
DTEND;TZID=Europe/London:20260227T131500
DTSTAMP:20260421T152350
CREATED:20251215T095036Z
LAST-MODIFIED:20260224T085306Z
UID:10001025-1772194500-1772198100@wardenhill.gloucs.sch.uk
SUMMARY:Lunchtime Forest School: 4G
DESCRIPTION:
URL:https://wardenhill.gloucs.sch.uk/event/lunchtime-forest-school-4g/2026-02-27/
CATEGORIES:Forest School,Year 4
ATTACH;FMTTYPE=image/jpeg:https://wardenhill.gloucs.sch.uk/wp-content/uploads/2024/11/forest-school.jpg
END:VEVENT
BEGIN:VEVENT
DTSTART;TZID=Europe/London:20260227T152000
DTEND;TZID=Europe/London:20260227T162000
DTSTAMP:20260421T152350
CREATED:20260122T100245Z
LAST-MODIFIED:20260122T102030Z
UID:10000942-1772205600-1772209200@wardenhill.gloucs.sch.uk
SUMMARY:Jam Coding Minecraft Java Script KS2
DESCRIPTION:Jam Coding Minecraft Java KS2 \nSignup here: https://portal.jamcoding.franscape.io/class-overview/5556 \n \n 
URL:https://wardenhill.gloucs.sch.uk/event/jam-coding-minecraft-java-script-ks2/2026-02-27/
CATEGORIES:Clubs,Year 3,Year 4,Year 5,Year 6
ATTACH;FMTTYPE=image/jpeg:https://wardenhill.gloucs.sch.uk/wp-content/uploads/2026/01/jam-coding.jpg
END:VEVENT
BEGIN:VEVENT
DTSTART;TZID=Europe/London:20260303T121500
DTEND;TZID=Europe/London:20260303T131500
DTSTAMP:20260421T152350
CREATED:20251127T143821Z
LAST-MODIFIED:20251127T150051Z
UID:10000751-1772540100-1772543700@wardenhill.gloucs.sch.uk
SUMMARY:Chess Club Y3 Y4 Y5 Y6
DESCRIPTION:
URL:https://wardenhill.gloucs.sch.uk/event/chess-club-y3-y4-y5-y6/2026-03-03/
CATEGORIES:Clubs,Year 3,Year 4,Year 5,Year 6
END:VEVENT
BEGIN:VEVENT
DTSTART;TZID=Europe/London:20260303T151500
DTEND;TZID=Europe/London:20260303T161500
DTSTAMP:20260421T152350
CREATED:20251125T110143Z
LAST-MODIFIED:20251125T110143Z
UID:10000675-1772550900-1772554500@wardenhill.gloucs.sch.uk
SUMMARY:Dodgeball Club Y3 Y4 Y5 Y6
DESCRIPTION:
URL:https://wardenhill.gloucs.sch.uk/event/dodgeball-club-y3-y4-y5-y6-2/2026-03-03/
CATEGORIES:Clubs,Year 3,Year 4,Year 5,Year 6
END:VEVENT
BEGIN:VEVENT
DTSTART;TZID=Europe/London:20260303T151500
DTEND;TZID=Europe/London:20260303T161500
DTSTAMP:20260421T152350
CREATED:20251126T094849Z
LAST-MODIFIED:20251126T094934Z
UID:10000735-1772550900-1772554500@wardenhill.gloucs.sch.uk
SUMMARY:Singing Club
DESCRIPTION:
URL:https://wardenhill.gloucs.sch.uk/event/singing-club/2026-03-03/
CATEGORIES:Clubs,Year 3,Year 4,Year 5,Year 6
END:VEVENT
BEGIN:VEVENT
DTSTART;TZID=Europe/London:20260305T121500
DTEND;TZID=Europe/London:20260305T131500
DTSTAMP:20260421T152350
CREATED:20251215T094806Z
LAST-MODIFIED:20260224T085452Z
UID:10001033-1772712900-1772716500@wardenhill.gloucs.sch.uk
SUMMARY:Lunchtime Forest School: 4P
DESCRIPTION:
URL:https://wardenhill.gloucs.sch.uk/event/lunchtime-forest-school-4p/2026-03-05/
CATEGORIES:Forest School,Year 4
ATTACH;FMTTYPE=image/jpeg:https://wardenhill.gloucs.sch.uk/wp-content/uploads/2024/11/forest-school.jpg
END:VEVENT
BEGIN:VEVENT
DTSTART;VALUE=DATE:20260306
DTEND;VALUE=DATE:20260307
DTSTAMP:20260421T152350
CREATED:20260205T095926Z
LAST-MODIFIED:20260205T100301Z
UID:10000978-1772755200-1772841599@wardenhill.gloucs.sch.uk
SUMMARY:House Rugby
DESCRIPTION:Children should come to school in their PE kit and school shoes and bring trainers in a separate bag
URL:https://wardenhill.gloucs.sch.uk/event/house-rugby-2/
LOCATION:Warden Hill Primary School\, Durham Close\, Cheltenham\, Gloucestershire\, GL51 3DF\, United Kingdom
CATEGORIES:Reception,Year 1,Year 2,Year 3,Year 4,Year 5,Year 6
ATTACH;FMTTYPE=image/jpeg:https://wardenhill.gloucs.sch.uk/wp-content/uploads/2025/10/rugby.jpg
END:VEVENT
BEGIN:VEVENT
DTSTART;TZID=Europe/London:20260306T121500
DTEND;TZID=Europe/London:20260306T131500
DTSTAMP:20260421T152350
CREATED:20251215T095036Z
LAST-MODIFIED:20260224T085306Z
UID:10001026-1772799300-1772802900@wardenhill.gloucs.sch.uk
SUMMARY:Lunchtime Forest School: 4G
DESCRIPTION:
URL:https://wardenhill.gloucs.sch.uk/event/lunchtime-forest-school-4g/2026-03-06/
CATEGORIES:Forest School,Year 4
ATTACH;FMTTYPE=image/jpeg:https://wardenhill.gloucs.sch.uk/wp-content/uploads/2024/11/forest-school.jpg
END:VEVENT
BEGIN:VEVENT
DTSTART;TZID=Europe/London:20260306T152000
DTEND;TZID=Europe/London:20260306T162000
DTSTAMP:20260421T152350
CREATED:20260122T100245Z
LAST-MODIFIED:20260122T102030Z
UID:10000943-1772810400-1772814000@wardenhill.gloucs.sch.uk
SUMMARY:Jam Coding Minecraft Java Script KS2
DESCRIPTION:Jam Coding Minecraft Java KS2 \nSignup here: https://portal.jamcoding.franscape.io/class-overview/5556 \n \n 
URL:https://wardenhill.gloucs.sch.uk/event/jam-coding-minecraft-java-script-ks2/2026-03-06/
CATEGORIES:Clubs,Year 3,Year 4,Year 5,Year 6
ATTACH;FMTTYPE=image/jpeg:https://wardenhill.gloucs.sch.uk/wp-content/uploads/2026/01/jam-coding.jpg
END:VEVENT
BEGIN:VEVENT
DTSTART;TZID=Europe/London:20260309T151500
DTEND;TZID=Europe/London:20260309T161500
DTSTAMP:20260421T152350
CREATED:20251125T105545Z
LAST-MODIFIED:20251125T105731Z
UID:10000609-1773069300-1773072900@wardenhill.gloucs.sch.uk
SUMMARY:Rugby Club Y4 Y5 Y6
DESCRIPTION:
URL:https://wardenhill.gloucs.sch.uk/event/rugby-club-y4-y5-y6/2026-03-09/
CATEGORIES:Clubs,Year 4,Year 5,Year 6
ATTACH;FMTTYPE=image/jpeg:https://wardenhill.gloucs.sch.uk/wp-content/uploads/2025/10/rugby.jpg
END:VEVENT
BEGIN:VEVENT
DTSTART;TZID=Europe/London:20260309T151500
DTEND;TZID=Europe/London:20260309T161500
DTSTAMP:20260421T152350
CREATED:20251125T105700Z
LAST-MODIFIED:20251125T105700Z
UID:10000599-1773069300-1773072900@wardenhill.gloucs.sch.uk
SUMMARY:Yoga Club Y4 Y5
DESCRIPTION:
URL:https://wardenhill.gloucs.sch.uk/event/yoga-club-y4-y5/2026-03-09/
CATEGORIES:Clubs,Year 4,Year 5
END:VEVENT
BEGIN:VEVENT
DTSTART;TZID=Europe/London:20260310T083000
DTEND;TZID=Europe/London:20260310T084000
DTSTAMP:20260421T152350
CREATED:20251217T140907Z
LAST-MODIFIED:20251217T140907Z
UID:10000889-1773131400-1773132000@wardenhill.gloucs.sch.uk
SUMMARY:Spotlight Showcase YR Y4
DESCRIPTION:
URL:https://wardenhill.gloucs.sch.uk/event/spotlight-showcase-yr-y4-3/
CATEGORIES:Reception,Year 4
END:VEVENT
BEGIN:VEVENT
DTSTART;TZID=Europe/London:20260310T121500
DTEND;TZID=Europe/London:20260310T131500
DTSTAMP:20260421T152350
CREATED:20251127T143821Z
LAST-MODIFIED:20251127T150051Z
UID:10000752-1773144900-1773148500@wardenhill.gloucs.sch.uk
SUMMARY:Chess Club Y3 Y4 Y5 Y6
DESCRIPTION:
URL:https://wardenhill.gloucs.sch.uk/event/chess-club-y3-y4-y5-y6/2026-03-10/
CATEGORIES:Clubs,Year 3,Year 4,Year 5,Year 6
END:VEVENT
BEGIN:VEVENT
DTSTART;TZID=Europe/London:20260310T151500
DTEND;TZID=Europe/London:20260310T161500
DTSTAMP:20260421T152350
CREATED:20251125T110143Z
LAST-MODIFIED:20251125T110143Z
UID:10000676-1773155700-1773159300@wardenhill.gloucs.sch.uk
SUMMARY:Dodgeball Club Y3 Y4 Y5 Y6
DESCRIPTION:
URL:https://wardenhill.gloucs.sch.uk/event/dodgeball-club-y3-y4-y5-y6-2/2026-03-10/
CATEGORIES:Clubs,Year 3,Year 4,Year 5,Year 6
END:VEVENT
BEGIN:VEVENT
DTSTART;TZID=Europe/London:20260310T151500
DTEND;TZID=Europe/London:20260310T161500
DTSTAMP:20260421T152350
CREATED:20251126T094849Z
LAST-MODIFIED:20251126T094934Z
UID:10000736-1773155700-1773159300@wardenhill.gloucs.sch.uk
SUMMARY:Singing Club
DESCRIPTION:
URL:https://wardenhill.gloucs.sch.uk/event/singing-club/2026-03-10/
CATEGORIES:Clubs,Year 3,Year 4,Year 5,Year 6
END:VEVENT
BEGIN:VEVENT
DTSTART;TZID=Europe/London:20260312T121500
DTEND;TZID=Europe/London:20260312T131500
DTSTAMP:20260421T152350
CREATED:20251215T094806Z
LAST-MODIFIED:20260224T085452Z
UID:10001034-1773317700-1773321300@wardenhill.gloucs.sch.uk
SUMMARY:Lunchtime Forest School: 4P
DESCRIPTION:
URL:https://wardenhill.gloucs.sch.uk/event/lunchtime-forest-school-4p/2026-03-12/
CATEGORIES:Forest School,Year 4
ATTACH;FMTTYPE=image/jpeg:https://wardenhill.gloucs.sch.uk/wp-content/uploads/2024/11/forest-school.jpg
END:VEVENT
BEGIN:VEVENT
DTSTART;TZID=Europe/London:20260313T121500
DTEND;TZID=Europe/London:20260313T131500
DTSTAMP:20260421T152350
CREATED:20251215T095036Z
LAST-MODIFIED:20260224T085306Z
UID:10001027-1773404100-1773407700@wardenhill.gloucs.sch.uk
SUMMARY:Lunchtime Forest School: 4G
DESCRIPTION:
URL:https://wardenhill.gloucs.sch.uk/event/lunchtime-forest-school-4g/2026-03-13/
CATEGORIES:Forest School,Year 4
ATTACH;FMTTYPE=image/jpeg:https://wardenhill.gloucs.sch.uk/wp-content/uploads/2024/11/forest-school.jpg
END:VEVENT
BEGIN:VEVENT
DTSTART;TZID=Europe/London:20260313T152000
DTEND;TZID=Europe/London:20260313T162000
DTSTAMP:20260421T152350
CREATED:20260122T100245Z
LAST-MODIFIED:20260122T102030Z
UID:10000944-1773415200-1773418800@wardenhill.gloucs.sch.uk
SUMMARY:Jam Coding Minecraft Java Script KS2
DESCRIPTION:Jam Coding Minecraft Java KS2 \nSignup here: https://portal.jamcoding.franscape.io/class-overview/5556 \n \n 
URL:https://wardenhill.gloucs.sch.uk/event/jam-coding-minecraft-java-script-ks2/2026-03-13/
CATEGORIES:Clubs,Year 3,Year 4,Year 5,Year 6
ATTACH;FMTTYPE=image/jpeg:https://wardenhill.gloucs.sch.uk/wp-content/uploads/2026/01/jam-coding.jpg
END:VEVENT
BEGIN:VEVENT
DTSTART;TZID=Europe/London:20260316T151500
DTEND;TZID=Europe/London:20260316T161500
DTSTAMP:20260421T152350
CREATED:20251125T105545Z
LAST-MODIFIED:20251125T105731Z
UID:10000610-1773674100-1773677700@wardenhill.gloucs.sch.uk
SUMMARY:Rugby Club Y4 Y5 Y6
DESCRIPTION:
URL:https://wardenhill.gloucs.sch.uk/event/rugby-club-y4-y5-y6/2026-03-16/
CATEGORIES:Clubs,Year 4,Year 5,Year 6
ATTACH;FMTTYPE=image/jpeg:https://wardenhill.gloucs.sch.uk/wp-content/uploads/2025/10/rugby.jpg
END:VEVENT
BEGIN:VEVENT
DTSTART;TZID=Europe/London:20260316T151500
DTEND;TZID=Europe/London:20260316T161500
DTSTAMP:20260421T152350
CREATED:20251125T105700Z
LAST-MODIFIED:20251125T105700Z
UID:10000600-1773674100-1773677700@wardenhill.gloucs.sch.uk
SUMMARY:Yoga Club Y4 Y5
DESCRIPTION:
URL:https://wardenhill.gloucs.sch.uk/event/yoga-club-y4-y5/2026-03-16/
CATEGORIES:Clubs,Year 4,Year 5
END:VEVENT
BEGIN:VEVENT
DTSTART;TZID=Europe/London:20260317T121500
DTEND;TZID=Europe/London:20260317T131500
DTSTAMP:20260421T152350
CREATED:20251127T143821Z
LAST-MODIFIED:20251127T150051Z
UID:10000753-1773749700-1773753300@wardenhill.gloucs.sch.uk
SUMMARY:Chess Club Y3 Y4 Y5 Y6
DESCRIPTION:
URL:https://wardenhill.gloucs.sch.uk/event/chess-club-y3-y4-y5-y6/2026-03-17/
CATEGORIES:Clubs,Year 3,Year 4,Year 5,Year 6
END:VEVENT
BEGIN:VEVENT
DTSTART;TZID=Europe/London:20260317T151500
DTEND;TZID=Europe/London:20260317T161500
DTSTAMP:20260421T152350
CREATED:20251125T110143Z
LAST-MODIFIED:20251125T110143Z
UID:10000677-1773760500-1773764100@wardenhill.gloucs.sch.uk
SUMMARY:Dodgeball Club Y3 Y4 Y5 Y6
DESCRIPTION:
URL:https://wardenhill.gloucs.sch.uk/event/dodgeball-club-y3-y4-y5-y6-2/2026-03-17/
CATEGORIES:Clubs,Year 3,Year 4,Year 5,Year 6
END:VEVENT
BEGIN:VEVENT
DTSTART;TZID=Europe/London:20260317T151500
DTEND;TZID=Europe/London:20260317T161500
DTSTAMP:20260421T152350
CREATED:20251126T094849Z
LAST-MODIFIED:20251126T094934Z
UID:10000737-1773760500-1773764100@wardenhill.gloucs.sch.uk
SUMMARY:Singing Club
DESCRIPTION:
URL:https://wardenhill.gloucs.sch.uk/event/singing-club/2026-03-17/
CATEGORIES:Clubs,Year 3,Year 4,Year 5,Year 6
END:VEVENT
BEGIN:VEVENT
DTSTART;VALUE=DATE:20260319
DTEND;VALUE=DATE:20260320
DTSTAMP:20260421T152350
CREATED:20260205T100056Z
LAST-MODIFIED:20260316T122059Z
UID:10000979-1773878400-1773964799@wardenhill.gloucs.sch.uk
SUMMARY:House Orienteering
DESCRIPTION:Children to wear their PE kit with school shoes. Trainers in a bag.
URL:https://wardenhill.gloucs.sch.uk/event/house-orienteering-2/
LOCATION:Warden Hill Primary School\, Durham Close\, Cheltenham\, Gloucestershire\, GL51 3DF\, United Kingdom
CATEGORIES:Reception,Year 1,Year 2,Year 3,Year 4,Year 5,Year 6
ATTACH;FMTTYPE=image/jpeg:https://wardenhill.gloucs.sch.uk/wp-content/uploads/2025/01/orienteering.jpg
END:VEVENT
BEGIN:VEVENT
DTSTART;TZID=Europe/London:20260319T121500
DTEND;TZID=Europe/London:20260319T131500
DTSTAMP:20260421T152350
CREATED:20251215T094806Z
LAST-MODIFIED:20260224T085452Z
UID:10001035-1773922500-1773926100@wardenhill.gloucs.sch.uk
SUMMARY:Lunchtime Forest School: 4P
DESCRIPTION:
URL:https://wardenhill.gloucs.sch.uk/event/lunchtime-forest-school-4p/2026-03-19/
CATEGORIES:Forest School,Year 4
ATTACH;FMTTYPE=image/jpeg:https://wardenhill.gloucs.sch.uk/wp-content/uploads/2024/11/forest-school.jpg
END:VEVENT
BEGIN:VEVENT
DTSTART;TZID=Europe/London:20260320T121500
DTEND;TZID=Europe/London:20260320T131500
DTSTAMP:20260421T152350
CREATED:20251215T095036Z
LAST-MODIFIED:20260224T085306Z
UID:10001028-1774008900-1774012500@wardenhill.gloucs.sch.uk
SUMMARY:Lunchtime Forest School: 4G
DESCRIPTION:
URL:https://wardenhill.gloucs.sch.uk/event/lunchtime-forest-school-4g/2026-03-20/
CATEGORIES:Forest School,Year 4
ATTACH;FMTTYPE=image/jpeg:https://wardenhill.gloucs.sch.uk/wp-content/uploads/2024/11/forest-school.jpg
END:VEVENT
BEGIN:VEVENT
DTSTART;TZID=Europe/London:20260320T152000
DTEND;TZID=Europe/London:20260320T162000
DTSTAMP:20260421T152350
CREATED:20260122T100245Z
LAST-MODIFIED:20260122T102030Z
UID:10000945-1774020000-1774023600@wardenhill.gloucs.sch.uk
SUMMARY:Jam Coding Minecraft Java Script KS2
DESCRIPTION:Jam Coding Minecraft Java KS2 \nSignup here: https://portal.jamcoding.franscape.io/class-overview/5556 \n \n 
URL:https://wardenhill.gloucs.sch.uk/event/jam-coding-minecraft-java-script-ks2/2026-03-20/
CATEGORIES:Clubs,Year 3,Year 4,Year 5,Year 6
ATTACH;FMTTYPE=image/jpeg:https://wardenhill.gloucs.sch.uk/wp-content/uploads/2026/01/jam-coding.jpg
END:VEVENT
BEGIN:VEVENT
DTSTART;TZID=Europe/London:20260323T151500
DTEND;TZID=Europe/London:20260323T161500
DTSTAMP:20260421T152350
CREATED:20251125T105545Z
LAST-MODIFIED:20251125T105731Z
UID:10000611-1774278900-1774282500@wardenhill.gloucs.sch.uk
SUMMARY:Rugby Club Y4 Y5 Y6
DESCRIPTION:
URL:https://wardenhill.gloucs.sch.uk/event/rugby-club-y4-y5-y6/2026-03-23/
CATEGORIES:Clubs,Year 4,Year 5,Year 6
ATTACH;FMTTYPE=image/jpeg:https://wardenhill.gloucs.sch.uk/wp-content/uploads/2025/10/rugby.jpg
END:VEVENT
BEGIN:VEVENT
DTSTART;TZID=Europe/London:20260323T151500
DTEND;TZID=Europe/London:20260323T161500
DTSTAMP:20260421T152350
CREATED:20251125T105700Z
LAST-MODIFIED:20251125T105700Z
UID:10000601-1774278900-1774282500@wardenhill.gloucs.sch.uk
SUMMARY:Yoga Club Y4 Y5
DESCRIPTION:
URL:https://wardenhill.gloucs.sch.uk/event/yoga-club-y4-y5/2026-03-23/
CATEGORIES:Clubs,Year 4,Year 5
END:VEVENT
BEGIN:VEVENT
DTSTART;TZID=Europe/London:20260324T121500
DTEND;TZID=Europe/London:20260324T131500
DTSTAMP:20260421T152350
CREATED:20251127T143821Z
LAST-MODIFIED:20251127T150051Z
UID:10000754-1774354500-1774358100@wardenhill.gloucs.sch.uk
SUMMARY:Chess Club Y3 Y4 Y5 Y6
DESCRIPTION:
URL:https://wardenhill.gloucs.sch.uk/event/chess-club-y3-y4-y5-y6/2026-03-24/
CATEGORIES:Clubs,Year 3,Year 4,Year 5,Year 6
END:VEVENT
END:VCALENDAR