BEGIN:VCALENDAR
VERSION:2.0
PRODID:-//Warden Hill Primary School - ECPv6.15.20//NONSGML v1.0//EN
CALSCALE:GREGORIAN
METHOD:PUBLISH
X-ORIGINAL-URL:https://wardenhill.gloucs.sch.uk
X-WR-CALDESC:Events for Warden Hill Primary School
REFRESH-INTERVAL;VALUE=DURATION:PT1H
X-Robots-Tag:noindex
X-PUBLISHED-TTL:PT1H
BEGIN:VTIMEZONE
TZID:Europe/London
BEGIN:DAYLIGHT
TZOFFSETFROM:+0000
TZOFFSETTO:+0100
TZNAME:BST
DTSTART:20250330T010000
END:DAYLIGHT
BEGIN:STANDARD
TZOFFSETFROM:+0100
TZOFFSETTO:+0000
TZNAME:GMT
DTSTART:20251026T010000
END:STANDARD
BEGIN:DAYLIGHT
TZOFFSETFROM:+0000
TZOFFSETTO:+0100
TZNAME:BST
DTSTART:20260329T010000
END:DAYLIGHT
BEGIN:STANDARD
TZOFFSETFROM:+0100
TZOFFSETTO:+0000
TZNAME:GMT
DTSTART:20261025T010000
END:STANDARD
BEGIN:DAYLIGHT
TZOFFSETFROM:+0000
TZOFFSETTO:+0100
TZNAME:BST
DTSTART:20270328T010000
END:DAYLIGHT
BEGIN:STANDARD
TZOFFSETFROM:+0100
TZOFFSETTO:+0000
TZNAME:GMT
DTSTART:20271031T010000
END:STANDARD
END:VTIMEZONE
BEGIN:VEVENT
DTSTART;TZID=Europe/London:20260303T153000
DTEND;TZID=Europe/London:20260303T183000
DTSTAMP:20260421T160224
CREATED:20260211T103118Z
LAST-MODIFIED:20260211T105253Z
UID:10000995-1772551800-1772562600@wardenhill.gloucs.sch.uk
SUMMARY:Y2: TT Rockstars Tournament
DESCRIPTION:Big Walk and Wheel is the UK’s largest inter-school walking\, wheeling\, scooting and cycling to school challenge. It inspires pupils to make active journeys to school\, to improve air quality in their neighbourhood and discover how these changes benefit their world.\n\n 								\n				\n					\n				\n		\n					\n				\n				\n									800 Miles Photo Gallery
URL:https://wardenhill.gloucs.sch.uk/event/y2-tt-rockstars-tournament/2026-03-03/
CATEGORIES:Year 2
ATTACH;FMTTYPE=image/jpeg:https://wardenhill.gloucs.sch.uk/wp-content/uploads/2026/02/ttrs.jpg
END:VEVENT
BEGIN:VEVENT
DTSTART;TZID=Europe/London:20260303T152000
DTEND;TZID=Europe/London:20260303T162000
DTSTAMP:20260421T160224
CREATED:20260122T095857Z
LAST-MODIFIED:20260122T102134Z
UID:10000938-1772551200-1772554800@wardenhill.gloucs.sch.uk
SUMMARY:Jam Coding Stop Motion Animation Club KS1
DESCRIPTION:Big Walk and Wheel is the UK’s largest inter-school walking\, wheeling\, scooting and cycling to school challenge. It inspires pupils to make active journeys to school\, to improve air quality in their neighbourhood and discover how these changes benefit their world.\n\n 								\n				\n					\n				\n		\n					\n				\n				\n									800 Miles Photo Gallery
URL:https://wardenhill.gloucs.sch.uk/event/stop-motion-animation-club-ks1/2026-03-03/
CATEGORIES:Clubs,Year 1,Year 2
ATTACH;FMTTYPE=image/jpeg:https://wardenhill.gloucs.sch.uk/wp-content/uploads/2026/01/jam-coding.jpg
END:VEVENT
BEGIN:VEVENT
DTSTART;TZID=Europe/London:20260303T151500
DTEND;TZID=Europe/London:20260303T161500
DTSTAMP:20260421T160224
CREATED:20251126T094849Z
LAST-MODIFIED:20251126T094934Z
UID:10000735-1772550900-1772554500@wardenhill.gloucs.sch.uk
SUMMARY:Singing Club
DESCRIPTION:Big Walk and Wheel is the UK’s largest inter-school walking\, wheeling\, scooting and cycling to school challenge. It inspires pupils to make active journeys to school\, to improve air quality in their neighbourhood and discover how these changes benefit their world.\n\n 								\n				\n					\n				\n		\n					\n				\n				\n									800 Miles Photo Gallery
URL:https://wardenhill.gloucs.sch.uk/event/singing-club/2026-03-03/
CATEGORIES:Clubs,Year 3,Year 4,Year 5,Year 6
END:VEVENT
BEGIN:VEVENT
DTSTART;TZID=Europe/London:20260303T151500
DTEND;TZID=Europe/London:20260303T161500
DTSTAMP:20260421T160224
CREATED:20251125T110238Z
LAST-MODIFIED:20251125T110238Z
UID:10000685-1772550900-1772554500@wardenhill.gloucs.sch.uk
SUMMARY:Netball Club Y5 Y6
DESCRIPTION:Big Walk and Wheel is the UK’s largest inter-school walking\, wheeling\, scooting and cycling to school challenge. It inspires pupils to make active journeys to school\, to improve air quality in their neighbourhood and discover how these changes benefit their world.\n\n 								\n				\n					\n				\n		\n					\n				\n				\n									800 Miles Photo Gallery
URL:https://wardenhill.gloucs.sch.uk/event/netball-club-y5-y6-2/2026-03-03/
END:VEVENT
BEGIN:VEVENT
DTSTART;TZID=Europe/London:20260303T151500
DTEND;TZID=Europe/London:20260303T161500
DTSTAMP:20260421T160224
CREATED:20251125T110143Z
LAST-MODIFIED:20251125T110143Z
UID:10000675-1772550900-1772554500@wardenhill.gloucs.sch.uk
SUMMARY:Dodgeball Club Y3 Y4 Y5 Y6
DESCRIPTION:Big Walk and Wheel is the UK’s largest inter-school walking\, wheeling\, scooting and cycling to school challenge. It inspires pupils to make active journeys to school\, to improve air quality in their neighbourhood and discover how these changes benefit their world.\n\n 								\n				\n					\n				\n		\n					\n				\n				\n									800 Miles Photo Gallery
URL:https://wardenhill.gloucs.sch.uk/event/dodgeball-club-y3-y4-y5-y6-2/2026-03-03/
CATEGORIES:Clubs,Year 3,Year 4,Year 5,Year 6
END:VEVENT
BEGIN:VEVENT
DTSTART;TZID=Europe/London:20260303T151500
DTEND;TZID=Europe/London:20260303T160000
DTSTAMP:20260421T160224
CREATED:20251125T110501Z
LAST-MODIFIED:20260319T090046Z
UID:10000705-1772550900-1772553600@wardenhill.gloucs.sch.uk
SUMMARY:Colouring Club YR
DESCRIPTION:Big Walk and Wheel is the UK’s largest inter-school walking\, wheeling\, scooting and cycling to school challenge. It inspires pupils to make active journeys to school\, to improve air quality in their neighbourhood and discover how these changes benefit their world.\n\n 								\n				\n					\n				\n		\n					\n				\n				\n									800 Miles Photo Gallery
URL:https://wardenhill.gloucs.sch.uk/event/colouring-club-yr/2026-03-03/
CATEGORIES:Clubs,Reception
END:VEVENT
BEGIN:VEVENT
DTSTART;TZID=Europe/London:20260303T121500
DTEND;TZID=Europe/London:20260303T131500
DTSTAMP:20260421T160224
CREATED:20251127T143821Z
LAST-MODIFIED:20251127T150051Z
UID:10000751-1772540100-1772543700@wardenhill.gloucs.sch.uk
SUMMARY:Chess Club Y3 Y4 Y5 Y6
DESCRIPTION:Big Walk and Wheel is the UK’s largest inter-school walking\, wheeling\, scooting and cycling to school challenge. It inspires pupils to make active journeys to school\, to improve air quality in their neighbourhood and discover how these changes benefit their world.\n\n 								\n				\n					\n				\n		\n					\n				\n				\n									800 Miles Photo Gallery
URL:https://wardenhill.gloucs.sch.uk/event/chess-club-y3-y4-y5-y6/2026-03-03/
CATEGORIES:Clubs,Year 3,Year 4,Year 5,Year 6
END:VEVENT
BEGIN:VEVENT
DTSTART;TZID=Europe/London:20260302T153000
DTEND;TZID=Europe/London:20260302T183000
DTSTAMP:20260421T160224
CREATED:20260211T103118Z
LAST-MODIFIED:20260211T105253Z
UID:10000994-1772465400-1772476200@wardenhill.gloucs.sch.uk
SUMMARY:Y2: TT Rockstars Tournament
DESCRIPTION:Big Walk and Wheel is the UK’s largest inter-school walking\, wheeling\, scooting and cycling to school challenge. It inspires pupils to make active journeys to school\, to improve air quality in their neighbourhood and discover how these changes benefit their world.\n\n 								\n				\n					\n				\n		\n					\n				\n				\n									800 Miles Photo Gallery
URL:https://wardenhill.gloucs.sch.uk/event/y2-tt-rockstars-tournament/2026-03-02/
CATEGORIES:Year 2
ATTACH;FMTTYPE=image/jpeg:https://wardenhill.gloucs.sch.uk/wp-content/uploads/2026/02/ttrs.jpg
END:VEVENT
BEGIN:VEVENT
DTSTART;TZID=Europe/London:20260302T151500
DTEND;TZID=Europe/London:20260302T161500
DTSTAMP:20260421T160224
CREATED:20251117T090224Z
LAST-MODIFIED:20251117T092202Z
UID:10000387-1772464500-1772468100@wardenhill.gloucs.sch.uk
SUMMARY:Dance Club Y1 Y2
DESCRIPTION:Big Walk and Wheel is the UK’s largest inter-school walking\, wheeling\, scooting and cycling to school challenge. It inspires pupils to make active journeys to school\, to improve air quality in their neighbourhood and discover how these changes benefit their world.\n\n 								\n				\n					\n				\n		\n					\n				\n				\n									800 Miles Photo Gallery
URL:https://wardenhill.gloucs.sch.uk/event/dance-club-y1-y2/2026-03-02/
CATEGORIES:Year 1,Year 2
END:VEVENT
BEGIN:VEVENT
DTSTART;TZID=Europe/London:20260301T153000
DTEND;TZID=Europe/London:20260301T183000
DTSTAMP:20260421T160224
CREATED:20260211T103118Z
LAST-MODIFIED:20260211T105253Z
UID:10000993-1772379000-1772389800@wardenhill.gloucs.sch.uk
SUMMARY:Y2: TT Rockstars Tournament
DESCRIPTION:Big Walk and Wheel is the UK’s largest inter-school walking\, wheeling\, scooting and cycling to school challenge. It inspires pupils to make active journeys to school\, to improve air quality in their neighbourhood and discover how these changes benefit their world.\n\n 								\n				\n					\n				\n		\n					\n				\n				\n									800 Miles Photo Gallery
URL:https://wardenhill.gloucs.sch.uk/event/y2-tt-rockstars-tournament/2026-03-01/
CATEGORIES:Year 2
ATTACH;FMTTYPE=image/jpeg:https://wardenhill.gloucs.sch.uk/wp-content/uploads/2026/02/ttrs.jpg
END:VEVENT
BEGIN:VEVENT
DTSTART;TZID=Europe/London:20260228T153000
DTEND;TZID=Europe/London:20260228T183000
DTSTAMP:20260421T160224
CREATED:20260211T103118Z
LAST-MODIFIED:20260211T105253Z
UID:10000992-1772292600-1772303400@wardenhill.gloucs.sch.uk
SUMMARY:Y2: TT Rockstars Tournament
DESCRIPTION:Big Walk and Wheel is the UK’s largest inter-school walking\, wheeling\, scooting and cycling to school challenge. It inspires pupils to make active journeys to school\, to improve air quality in their neighbourhood and discover how these changes benefit their world.\n\n 								\n				\n					\n				\n		\n					\n				\n				\n									800 Miles Photo Gallery
URL:https://wardenhill.gloucs.sch.uk/event/y2-tt-rockstars-tournament/2026-02-28/
CATEGORIES:Year 2
ATTACH;FMTTYPE=image/jpeg:https://wardenhill.gloucs.sch.uk/wp-content/uploads/2026/02/ttrs.jpg
END:VEVENT
BEGIN:VEVENT
DTSTART;TZID=Europe/London:20260227T153000
DTEND;TZID=Europe/London:20260227T183000
DTSTAMP:20260421T160224
CREATED:20260211T103118Z
LAST-MODIFIED:20260211T105253Z
UID:10000991-1772206200-1772217000@wardenhill.gloucs.sch.uk
SUMMARY:Y2: TT Rockstars Tournament
DESCRIPTION:Big Walk and Wheel is the UK’s largest inter-school walking\, wheeling\, scooting and cycling to school challenge. It inspires pupils to make active journeys to school\, to improve air quality in their neighbourhood and discover how these changes benefit their world.\n\n 								\n				\n					\n				\n		\n					\n				\n				\n									800 Miles Photo Gallery
URL:https://wardenhill.gloucs.sch.uk/event/y2-tt-rockstars-tournament/2026-02-27/
CATEGORIES:Year 2
ATTACH;FMTTYPE=image/jpeg:https://wardenhill.gloucs.sch.uk/wp-content/uploads/2026/02/ttrs.jpg
END:VEVENT
BEGIN:VEVENT
DTSTART;TZID=Europe/London:20260227T152000
DTEND;TZID=Europe/London:20260227T162000
DTSTAMP:20260421T160224
CREATED:20260122T100245Z
LAST-MODIFIED:20260122T102030Z
UID:10000942-1772205600-1772209200@wardenhill.gloucs.sch.uk
SUMMARY:Jam Coding Minecraft Java Script KS2
DESCRIPTION:Big Walk and Wheel is the UK’s largest inter-school walking\, wheeling\, scooting and cycling to school challenge. It inspires pupils to make active journeys to school\, to improve air quality in their neighbourhood and discover how these changes benefit their world.\n\n 								\n				\n					\n				\n		\n					\n				\n				\n									800 Miles Photo Gallery
URL:https://wardenhill.gloucs.sch.uk/event/jam-coding-minecraft-java-script-ks2/2026-02-27/
CATEGORIES:Clubs,Year 3,Year 4,Year 5,Year 6
ATTACH;FMTTYPE=image/jpeg:https://wardenhill.gloucs.sch.uk/wp-content/uploads/2026/01/jam-coding.jpg
END:VEVENT
BEGIN:VEVENT
DTSTART;TZID=Europe/London:20260227T151500
DTEND;TZID=Europe/London:20260227T161500
DTSTAMP:20260421T160224
CREATED:20251125T110830Z
LAST-MODIFIED:20260122T115741Z
UID:10000725-1772205300-1772208900@wardenhill.gloucs.sch.uk
SUMMARY:Football Club Y1 Y2
DESCRIPTION:Big Walk and Wheel is the UK’s largest inter-school walking\, wheeling\, scooting and cycling to school challenge. It inspires pupils to make active journeys to school\, to improve air quality in their neighbourhood and discover how these changes benefit their world.\n\n 								\n				\n					\n				\n		\n					\n				\n				\n									800 Miles Photo Gallery
URL:https://wardenhill.gloucs.sch.uk/event/football-club-y1-y2-2/2026-02-27/
CATEGORIES:Clubs,Year 1,Year 2
END:VEVENT
BEGIN:VEVENT
DTSTART;TZID=Europe/London:20260227T130000
DTEND;TZID=Europe/London:20260227T150000
DTSTAMP:20260421T160224
CREATED:20251218T101632Z
LAST-MODIFIED:20260130T103853Z
UID:10000896-1772197200-1772204400@wardenhill.gloucs.sch.uk
SUMMARY:Year 3 Cornet Lessons
DESCRIPTION:Big Walk and Wheel is the UK’s largest inter-school walking\, wheeling\, scooting and cycling to school challenge. It inspires pupils to make active journeys to school\, to improve air quality in their neighbourhood and discover how these changes benefit their world.\n\n 								\n				\n					\n				\n		\n					\n				\n				\n									800 Miles Photo Gallery
URL:https://wardenhill.gloucs.sch.uk/event/year-3-cornet-lessons/2026-02-27/
CATEGORIES:Year 3
END:VEVENT
BEGIN:VEVENT
DTSTART;TZID=Europe/London:20260227T121500
DTEND;TZID=Europe/London:20260227T131500
DTSTAMP:20260421T160224
CREATED:20251215T095036Z
LAST-MODIFIED:20260224T085306Z
UID:10001025-1772194500-1772198100@wardenhill.gloucs.sch.uk
SUMMARY:Lunchtime Forest School: 4G
DESCRIPTION:Big Walk and Wheel is the UK’s largest inter-school walking\, wheeling\, scooting and cycling to school challenge. It inspires pupils to make active journeys to school\, to improve air quality in their neighbourhood and discover how these changes benefit their world.\n\n 								\n				\n					\n				\n		\n					\n				\n				\n									800 Miles Photo Gallery
URL:https://wardenhill.gloucs.sch.uk/event/lunchtime-forest-school-4g/2026-02-27/
CATEGORIES:Forest School,Year 4
ATTACH;FMTTYPE=image/jpeg:https://wardenhill.gloucs.sch.uk/wp-content/uploads/2024/11/forest-school.jpg
END:VEVENT
BEGIN:VEVENT
DTSTART;VALUE=DATE:20260227
DTEND;VALUE=DATE:20260228
DTSTAMP:20260421T160225
CREATED:20260203T092033Z
LAST-MODIFIED:20260209T100008Z
UID:10000976-1772150400-1772236799@wardenhill.gloucs.sch.uk
SUMMARY:Non-uniform Day for Coln
DESCRIPTION:Big Walk and Wheel is the UK’s largest inter-school walking\, wheeling\, scooting and cycling to school challenge. It inspires pupils to make active journeys to school\, to improve air quality in their neighbourhood and discover how these changes benefit their world.\n\n 								\n				\n					\n				\n		\n					\n				\n				\n									800 Miles Photo Gallery
URL:https://wardenhill.gloucs.sch.uk/event/non-uniform-day-for-winning-house-3/
CATEGORIES:House Events,Whole School
ATTACH;FMTTYPE=image/jpeg:https://wardenhill.gloucs.sch.uk/wp-content/uploads/2025/01/winning-house.jpg
END:VEVENT
BEGIN:VEVENT
DTSTART;VALUE=DATE:20260227
DTEND;VALUE=DATE:20260228
DTSTAMP:20260421T160225
CREATED:20251110T102637Z
LAST-MODIFIED:20251110T102637Z
UID:10000355-1772150400-1772236799@wardenhill.gloucs.sch.uk
SUMMARY:Year 1 Show and Tell
DESCRIPTION:Big Walk and Wheel is the UK’s largest inter-school walking\, wheeling\, scooting and cycling to school challenge. It inspires pupils to make active journeys to school\, to improve air quality in their neighbourhood and discover how these changes benefit their world.\n\n 								\n				\n					\n				\n		\n					\n				\n				\n									800 Miles Photo Gallery
URL:https://wardenhill.gloucs.sch.uk/event/year-1-show-and-tell/2026-02-27/
CATEGORIES:Year 1
END:VEVENT
BEGIN:VEVENT
DTSTART;TZID=Europe/London:20260226T160000
DTEND;TZID=Europe/London:20260226T170000
DTSTAMP:20260421T160225
CREATED:20260212T105147Z
LAST-MODIFIED:20260212T105147Z
UID:10001000-1772121600-1772125200@wardenhill.gloucs.sch.uk
SUMMARY:Cross Country Race Girls and Boys
DESCRIPTION:Big Walk and Wheel is the UK’s largest inter-school walking\, wheeling\, scooting and cycling to school challenge. It inspires pupils to make active journeys to school\, to improve air quality in their neighbourhood and discover how these changes benefit their world.\n\n 								\n				\n					\n				\n		\n					\n				\n				\n									800 Miles Photo Gallery
URL:https://wardenhill.gloucs.sch.uk/event/cross-country-race-girls-and-boys/
LOCATION:Cheltenham College Prep School\, Thirlestaine Road\, Cheltnham\, GL53 7AB
END:VEVENT
BEGIN:VEVENT
DTSTART;TZID=Europe/London:20260226T153000
DTEND;TZID=Europe/London:20260226T183000
DTSTAMP:20260421T160225
CREATED:20260211T103118Z
LAST-MODIFIED:20260211T105253Z
UID:10000990-1772119800-1772130600@wardenhill.gloucs.sch.uk
SUMMARY:Y2: TT Rockstars Tournament
DESCRIPTION:Big Walk and Wheel is the UK’s largest inter-school walking\, wheeling\, scooting and cycling to school challenge. It inspires pupils to make active journeys to school\, to improve air quality in their neighbourhood and discover how these changes benefit their world.\n\n 								\n				\n					\n				\n		\n					\n				\n				\n									800 Miles Photo Gallery
URL:https://wardenhill.gloucs.sch.uk/event/y2-tt-rockstars-tournament/2026-02-26/
CATEGORIES:Year 2
ATTACH;FMTTYPE=image/jpeg:https://wardenhill.gloucs.sch.uk/wp-content/uploads/2026/02/ttrs.jpg
END:VEVENT
BEGIN:VEVENT
DTSTART;TZID=Europe/London:20260226T151500
DTEND;TZID=Europe/London:20260226T161500
DTSTAMP:20260421T160225
CREATED:20251127T144211Z
LAST-MODIFIED:20251127T144211Z
UID:10000760-1772118900-1772122500@wardenhill.gloucs.sch.uk
SUMMARY:Craft Club Y2 Y3
DESCRIPTION:Big Walk and Wheel is the UK’s largest inter-school walking\, wheeling\, scooting and cycling to school challenge. It inspires pupils to make active journeys to school\, to improve air quality in their neighbourhood and discover how these changes benefit their world.\n\n 								\n				\n					\n				\n		\n					\n				\n				\n									800 Miles Photo Gallery
URL:https://wardenhill.gloucs.sch.uk/event/craft-club-y2-y3/2026-02-26/
CATEGORIES:Clubs,Year 2,Year 3
END:VEVENT
BEGIN:VEVENT
DTSTART;TZID=Europe/London:20260226T151500
DTEND;TZID=Europe/London:20260226T161500
DTSTAMP:20260421T160225
CREATED:20251125T110703Z
LAST-MODIFIED:20260108T110039Z
UID:10000714-1772118900-1772122500@wardenhill.gloucs.sch.uk
SUMMARY:Table Tennis Y5
DESCRIPTION:Big Walk and Wheel is the UK’s largest inter-school walking\, wheeling\, scooting and cycling to school challenge. It inspires pupils to make active journeys to school\, to improve air quality in their neighbourhood and discover how these changes benefit their world.\n\n 								\n				\n					\n				\n		\n					\n				\n				\n									800 Miles Photo Gallery
URL:https://wardenhill.gloucs.sch.uk/event/table-tennis-y5/2026-02-26/
CATEGORIES:Clubs,Year 5
END:VEVENT
BEGIN:VEVENT
DTSTART;TZID=Europe/London:20260226T121500
DTEND;TZID=Europe/London:20260226T131500
DTSTAMP:20260421T160225
CREATED:20251215T094806Z
LAST-MODIFIED:20260224T085452Z
UID:10001032-1772108100-1772111700@wardenhill.gloucs.sch.uk
SUMMARY:Lunchtime Forest School: 4P
DESCRIPTION:Big Walk and Wheel is the UK’s largest inter-school walking\, wheeling\, scooting and cycling to school challenge. It inspires pupils to make active journeys to school\, to improve air quality in their neighbourhood and discover how these changes benefit their world.\n\n 								\n				\n					\n				\n		\n					\n				\n				\n									800 Miles Photo Gallery
URL:https://wardenhill.gloucs.sch.uk/event/lunchtime-forest-school-4p/2026-02-26/
CATEGORIES:Forest School,Year 4
ATTACH;FMTTYPE=image/jpeg:https://wardenhill.gloucs.sch.uk/wp-content/uploads/2024/11/forest-school.jpg
END:VEVENT
BEGIN:VEVENT
DTSTART;TZID=Europe/London:20260226T121500
DTEND;TZID=Europe/London:20260226T131500
DTSTAMP:20260421T160225
CREATED:20251127T144322Z
LAST-MODIFIED:20251127T144322Z
UID:10000770-1772108100-1772111700@wardenhill.gloucs.sch.uk
SUMMARY:Cross Country Club Y5 Y6
DESCRIPTION:Big Walk and Wheel is the UK’s largest inter-school walking\, wheeling\, scooting and cycling to school challenge. It inspires pupils to make active journeys to school\, to improve air quality in their neighbourhood and discover how these changes benefit their world.\n\n 								\n				\n					\n				\n		\n					\n				\n				\n									800 Miles Photo Gallery
URL:https://wardenhill.gloucs.sch.uk/event/cross-country-club-y5-y6/2026-02-26/
CATEGORIES:Clubs,Year 5,Year 6
END:VEVENT
BEGIN:VEVENT
DTSTART;TZID=Europe/London:20260226T093000
DTEND;TZID=Europe/London:20260226T120000
DTSTAMP:20260421T160225
CREATED:20260225T120746Z
LAST-MODIFIED:20260225T120906Z
UID:10001037-1772098200-1772107200@wardenhill.gloucs.sch.uk
SUMMARY:Year 4 Local Walk
DESCRIPTION:Big Walk and Wheel is the UK’s largest inter-school walking\, wheeling\, scooting and cycling to school challenge. It inspires pupils to make active journeys to school\, to improve air quality in their neighbourhood and discover how these changes benefit their world.\n\n 								\n				\n					\n				\n		\n					\n				\n				\n									800 Miles Photo Gallery
URL:https://wardenhill.gloucs.sch.uk/event/year-4-local-walk/
CATEGORIES:Year 4
END:VEVENT
BEGIN:VEVENT
DTSTART;TZID=Europe/London:20260225T153000
DTEND;TZID=Europe/London:20260225T183000
DTSTAMP:20260421T160225
CREATED:20260211T103118Z
LAST-MODIFIED:20260211T105253Z
UID:10000989-1772033400-1772044200@wardenhill.gloucs.sch.uk
SUMMARY:Y2: TT Rockstars Tournament
DESCRIPTION:Big Walk and Wheel is the UK’s largest inter-school walking\, wheeling\, scooting and cycling to school challenge. It inspires pupils to make active journeys to school\, to improve air quality in their neighbourhood and discover how these changes benefit their world.\n\n 								\n				\n					\n				\n		\n					\n				\n				\n									800 Miles Photo Gallery
URL:https://wardenhill.gloucs.sch.uk/event/y2-tt-rockstars-tournament/2026-02-25/
CATEGORIES:Year 2
ATTACH;FMTTYPE=image/jpeg:https://wardenhill.gloucs.sch.uk/wp-content/uploads/2026/02/ttrs.jpg
END:VEVENT
BEGIN:VEVENT
DTSTART;TZID=Europe/London:20260225T121500
DTEND;TZID=Europe/London:20260225T131500
DTSTAMP:20260421T160225
CREATED:20260224T084100Z
LAST-MODIFIED:20260224T084550Z
UID:10001007-1772021700-1772025300@wardenhill.gloucs.sch.uk
SUMMARY:Lunchtime Forest School: 3G
DESCRIPTION:Big Walk and Wheel is the UK’s largest inter-school walking\, wheeling\, scooting and cycling to school challenge. It inspires pupils to make active journeys to school\, to improve air quality in their neighbourhood and discover how these changes benefit their world.\n\n 								\n				\n					\n				\n		\n					\n				\n				\n									800 Miles Photo Gallery
URL:https://wardenhill.gloucs.sch.uk/event/lunchtime-forest-school-3g-2/2026-02-25/
CATEGORIES:Forest School,Year 3
ATTACH;FMTTYPE=image/jpeg:https://wardenhill.gloucs.sch.uk/wp-content/uploads/2024/11/forest-school.jpg
END:VEVENT
BEGIN:VEVENT
DTSTART;TZID=Europe/London:20260225T121500
DTEND;TZID=Europe/London:20260225T124500
DTSTAMP:20260421T160225
CREATED:20251217T095325Z
LAST-MODIFIED:20251217T095401Z
UID:10000881-1772021700-1772023500@wardenhill.gloucs.sch.uk
SUMMARY:24 Challenge Y5 Y6
DESCRIPTION:Big Walk and Wheel is the UK’s largest inter-school walking\, wheeling\, scooting and cycling to school challenge. It inspires pupils to make active journeys to school\, to improve air quality in their neighbourhood and discover how these changes benefit their world.\n\n 								\n				\n					\n				\n		\n					\n				\n				\n									800 Miles Photo Gallery
URL:https://wardenhill.gloucs.sch.uk/event/24-challenge-y5-y6/2026-02-25/
CATEGORIES:Clubs,Year 5,Year 6
ATTACH;FMTTYPE=image/gif:https://wardenhill.gloucs.sch.uk/wp-content/uploads/2025/12/24game_card.gif
END:VEVENT
BEGIN:VEVENT
DTSTART;TZID=Europe/London:20260224T153000
DTEND;TZID=Europe/London:20260224T183000
DTSTAMP:20260421T160225
CREATED:20260211T103118Z
LAST-MODIFIED:20260211T105253Z
UID:10000988-1771947000-1771957800@wardenhill.gloucs.sch.uk
SUMMARY:Y2: TT Rockstars Tournament
DESCRIPTION:Big Walk and Wheel is the UK’s largest inter-school walking\, wheeling\, scooting and cycling to school challenge. It inspires pupils to make active journeys to school\, to improve air quality in their neighbourhood and discover how these changes benefit their world.\n\n 								\n				\n					\n				\n		\n					\n				\n				\n									800 Miles Photo Gallery
URL:https://wardenhill.gloucs.sch.uk/event/y2-tt-rockstars-tournament/2026-02-24/
CATEGORIES:Year 2
ATTACH;FMTTYPE=image/jpeg:https://wardenhill.gloucs.sch.uk/wp-content/uploads/2026/02/ttrs.jpg
END:VEVENT
BEGIN:VEVENT
DTSTART;TZID=Europe/London:20260224T153000
DTEND;TZID=Europe/London:20260224T162000
DTSTAMP:20260421T160225
CREATED:20260211T113021Z
LAST-MODIFIED:20260211T113021Z
UID:10000999-1771947000-1771950000@wardenhill.gloucs.sch.uk
SUMMARY:Netball match A and B Team (Away) v St Marks
DESCRIPTION:Big Walk and Wheel is the UK’s largest inter-school walking\, wheeling\, scooting and cycling to school challenge. It inspires pupils to make active journeys to school\, to improve air quality in their neighbourhood and discover how these changes benefit their world.\n\n 								\n				\n					\n				\n		\n					\n				\n				\n									800 Miles Photo Gallery
URL:https://wardenhill.gloucs.sch.uk/event/netball-match-a-and-b-team-away-v-st-marks/
LOCATION:St Marks CofE Primary School\, Robert Burns Avenue\, Cheltenham\, Select a State or Province:\, GL51 6NU\, United Kingdom
ATTACH;FMTTYPE=image/jpeg:https://wardenhill.gloucs.sch.uk/wp-content/uploads/2025/03/netball.jpg
END:VEVENT
END:VCALENDAR