BEGIN:VCALENDAR
VERSION:2.0
PRODID:-//Warden Hill Primary School - ECPv6.15.20//NONSGML v1.0//EN
CALSCALE:GREGORIAN
METHOD:PUBLISH
X-ORIGINAL-URL:https://wardenhill.gloucs.sch.uk
X-WR-CALDESC:Events for Warden Hill Primary School
REFRESH-INTERVAL;VALUE=DURATION:PT1H
X-Robots-Tag:noindex
X-PUBLISHED-TTL:PT1H
BEGIN:VTIMEZONE
TZID:Europe/London
BEGIN:DAYLIGHT
TZOFFSETFROM:+0000
TZOFFSETTO:+0100
TZNAME:BST
DTSTART:20240331T010000
END:DAYLIGHT
BEGIN:STANDARD
TZOFFSETFROM:+0100
TZOFFSETTO:+0000
TZNAME:GMT
DTSTART:20241027T010000
END:STANDARD
BEGIN:DAYLIGHT
TZOFFSETFROM:+0000
TZOFFSETTO:+0100
TZNAME:BST
DTSTART:20250330T010000
END:DAYLIGHT
BEGIN:STANDARD
TZOFFSETFROM:+0100
TZOFFSETTO:+0000
TZNAME:GMT
DTSTART:20251026T010000
END:STANDARD
BEGIN:DAYLIGHT
TZOFFSETFROM:+0000
TZOFFSETTO:+0100
TZNAME:BST
DTSTART:20260329T010000
END:DAYLIGHT
BEGIN:STANDARD
TZOFFSETFROM:+0100
TZOFFSETTO:+0000
TZNAME:GMT
DTSTART:20261025T010000
END:STANDARD
END:VTIMEZONE
BEGIN:VEVENT
DTSTART;VALUE=DATE:20250526
DTEND;VALUE=DATE:20250601
DTSTAMP:20260421T171232
CREATED:20250120T103807Z
LAST-MODIFIED:20250313T104356Z
UID:10000112-1748221200-1748653199@wardenhill.gloucs.sch.uk
SUMMARY:Half Term
DESCRIPTION:I am pleased to share with you an exciting opportunity taking place at Warden Hill Primary School which reflects our ongoing commitment to high quality education and the future of the teaching profession. On Wednesday 29 April at 9.30am\, Warden Hill will be hosting a Primary Teacher Training Information Morning in partnership with the Odyssey Teaching School Hub. This event is designed for anyone considering a career in teaching\, including parents\, carers\, friends of the school or members of our wider community who may be interested in training to teach locally Those attending will have the opportunity to: • Talk with current teachers and trainee teachers about their experiences• Learn about the different teacher training routes available in Gloucestershire• Observe lessons in school and ask questions about life in the classroom As a school\, we are proud to play an active role in supporting teacher training and helping develop the next generation of skilled\, enthusiastic teachers. Events such as this strengthen the profession locally and\, in turn\, benefit schools and children across our community.If this is something that may be of interest to you or someone you know\, further information and booking details can be found via www.odysseytsh.org\, or by contacting admin@odysseytsh.org / 01242 538 240. 								\n				\n					\n				\n		\n					\n				\n				\n																\n															\n															\n				\n				\n				\n									\n					\n						\n									www.odysseytsh.org
URL:https://wardenhill.gloucs.sch.uk/event/half-term-2/
LOCATION:Gloucestershire
CATEGORIES:Term Dates
ATTACH;FMTTYPE=image/jpeg:https://wardenhill.gloucs.sch.uk/wp-content/uploads/2025/03/term-dates.jpg
END:VEVENT
BEGIN:VEVENT
DTSTART;TZID=Europe/London:20250527T093000
DTEND;TZID=Europe/London:20250527T170000
DTSTAMP:20260421T171232
CREATED:20250120T111928Z
LAST-MODIFIED:20250313T104651Z
UID:10000130-1748338200-1748365200@wardenhill.gloucs.sch.uk
SUMMARY:WHPS Sports Camp
DESCRIPTION:I am pleased to share with you an exciting opportunity taking place at Warden Hill Primary School which reflects our ongoing commitment to high quality education and the future of the teaching profession. On Wednesday 29 April at 9.30am\, Warden Hill will be hosting a Primary Teacher Training Information Morning in partnership with the Odyssey Teaching School Hub. This event is designed for anyone considering a career in teaching\, including parents\, carers\, friends of the school or members of our wider community who may be interested in training to teach locally Those attending will have the opportunity to: • Talk with current teachers and trainee teachers about their experiences• Learn about the different teacher training routes available in Gloucestershire• Observe lessons in school and ask questions about life in the classroom As a school\, we are proud to play an active role in supporting teacher training and helping develop the next generation of skilled\, enthusiastic teachers. Events such as this strengthen the profession locally and\, in turn\, benefit schools and children across our community.If this is something that may be of interest to you or someone you know\, further information and booking details can be found via www.odysseytsh.org\, or by contacting admin@odysseytsh.org / 01242 538 240. 								\n				\n					\n				\n		\n					\n				\n				\n																\n															\n															\n				\n				\n				\n									\n					\n						\n									www.odysseytsh.org
URL:https://wardenhill.gloucs.sch.uk/event/whps-sports-camp-4/2025-05-27/
LOCATION:Warden Hill Primary School\, Durham Close\, Cheltenham\, Gloucestershire\, GL51 3DF\, United Kingdom
CATEGORIES:Whole School,WHPS Sports Camp
ATTACH;FMTTYPE=image/jpeg:https://wardenhill.gloucs.sch.uk/wp-content/uploads/2025/01/sports-camp.jpg
ORGANIZER;CN="WHPS Sports Camps":MAILTO:thesportscoachuk@gmail.com
END:VEVENT
BEGIN:VEVENT
DTSTART;TZID=Europe/London:20250528T093000
DTEND;TZID=Europe/London:20250528T170000
DTSTAMP:20260421T171232
CREATED:20250120T111928Z
LAST-MODIFIED:20250313T104651Z
UID:10000131-1748424600-1748451600@wardenhill.gloucs.sch.uk
SUMMARY:WHPS Sports Camp
DESCRIPTION:I am pleased to share with you an exciting opportunity taking place at Warden Hill Primary School which reflects our ongoing commitment to high quality education and the future of the teaching profession. On Wednesday 29 April at 9.30am\, Warden Hill will be hosting a Primary Teacher Training Information Morning in partnership with the Odyssey Teaching School Hub. This event is designed for anyone considering a career in teaching\, including parents\, carers\, friends of the school or members of our wider community who may be interested in training to teach locally Those attending will have the opportunity to: • Talk with current teachers and trainee teachers about their experiences• Learn about the different teacher training routes available in Gloucestershire• Observe lessons in school and ask questions about life in the classroom As a school\, we are proud to play an active role in supporting teacher training and helping develop the next generation of skilled\, enthusiastic teachers. Events such as this strengthen the profession locally and\, in turn\, benefit schools and children across our community.If this is something that may be of interest to you or someone you know\, further information and booking details can be found via www.odysseytsh.org\, or by contacting admin@odysseytsh.org / 01242 538 240. 								\n				\n					\n				\n		\n					\n				\n				\n																\n															\n															\n				\n				\n				\n									\n					\n						\n									www.odysseytsh.org
URL:https://wardenhill.gloucs.sch.uk/event/whps-sports-camp-4/2025-05-28/
LOCATION:Warden Hill Primary School\, Durham Close\, Cheltenham\, Gloucestershire\, GL51 3DF\, United Kingdom
CATEGORIES:Whole School,WHPS Sports Camp
ATTACH;FMTTYPE=image/jpeg:https://wardenhill.gloucs.sch.uk/wp-content/uploads/2025/01/sports-camp.jpg
ORGANIZER;CN="WHPS Sports Camps":MAILTO:thesportscoachuk@gmail.com
END:VEVENT
BEGIN:VEVENT
DTSTART;TZID=Europe/London:20250529T093000
DTEND;TZID=Europe/London:20250529T170000
DTSTAMP:20260421T171232
CREATED:20250120T111928Z
LAST-MODIFIED:20250313T104651Z
UID:10000132-1748511000-1748538000@wardenhill.gloucs.sch.uk
SUMMARY:WHPS Sports Camp
DESCRIPTION:I am pleased to share with you an exciting opportunity taking place at Warden Hill Primary School which reflects our ongoing commitment to high quality education and the future of the teaching profession. On Wednesday 29 April at 9.30am\, Warden Hill will be hosting a Primary Teacher Training Information Morning in partnership with the Odyssey Teaching School Hub. This event is designed for anyone considering a career in teaching\, including parents\, carers\, friends of the school or members of our wider community who may be interested in training to teach locally Those attending will have the opportunity to: • Talk with current teachers and trainee teachers about their experiences• Learn about the different teacher training routes available in Gloucestershire• Observe lessons in school and ask questions about life in the classroom As a school\, we are proud to play an active role in supporting teacher training and helping develop the next generation of skilled\, enthusiastic teachers. Events such as this strengthen the profession locally and\, in turn\, benefit schools and children across our community.If this is something that may be of interest to you or someone you know\, further information and booking details can be found via www.odysseytsh.org\, or by contacting admin@odysseytsh.org / 01242 538 240. 								\n				\n					\n				\n		\n					\n				\n				\n																\n															\n															\n				\n				\n				\n									\n					\n						\n									www.odysseytsh.org
URL:https://wardenhill.gloucs.sch.uk/event/whps-sports-camp-4/2025-05-29/
LOCATION:Warden Hill Primary School\, Durham Close\, Cheltenham\, Gloucestershire\, GL51 3DF\, United Kingdom
CATEGORIES:Whole School,WHPS Sports Camp
ATTACH;FMTTYPE=image/jpeg:https://wardenhill.gloucs.sch.uk/wp-content/uploads/2025/01/sports-camp.jpg
ORGANIZER;CN="WHPS Sports Camps":MAILTO:thesportscoachuk@gmail.com
END:VEVENT
BEGIN:VEVENT
DTSTART;TZID=Europe/London:20250530T093000
DTEND;TZID=Europe/London:20250530T170000
DTSTAMP:20260421T171232
CREATED:20250120T111928Z
LAST-MODIFIED:20250313T104651Z
UID:10000133-1748597400-1748624400@wardenhill.gloucs.sch.uk
SUMMARY:WHPS Sports Camp
DESCRIPTION:I am pleased to share with you an exciting opportunity taking place at Warden Hill Primary School which reflects our ongoing commitment to high quality education and the future of the teaching profession. On Wednesday 29 April at 9.30am\, Warden Hill will be hosting a Primary Teacher Training Information Morning in partnership with the Odyssey Teaching School Hub. This event is designed for anyone considering a career in teaching\, including parents\, carers\, friends of the school or members of our wider community who may be interested in training to teach locally Those attending will have the opportunity to: • Talk with current teachers and trainee teachers about their experiences• Learn about the different teacher training routes available in Gloucestershire• Observe lessons in school and ask questions about life in the classroom As a school\, we are proud to play an active role in supporting teacher training and helping develop the next generation of skilled\, enthusiastic teachers. Events such as this strengthen the profession locally and\, in turn\, benefit schools and children across our community.If this is something that may be of interest to you or someone you know\, further information and booking details can be found via www.odysseytsh.org\, or by contacting admin@odysseytsh.org / 01242 538 240. 								\n				\n					\n				\n		\n					\n				\n				\n																\n															\n															\n				\n				\n				\n									\n					\n						\n									www.odysseytsh.org
URL:https://wardenhill.gloucs.sch.uk/event/whps-sports-camp-4/2025-05-30/
LOCATION:Warden Hill Primary School\, Durham Close\, Cheltenham\, Gloucestershire\, GL51 3DF\, United Kingdom
CATEGORIES:Whole School,WHPS Sports Camp
ATTACH;FMTTYPE=image/jpeg:https://wardenhill.gloucs.sch.uk/wp-content/uploads/2025/01/sports-camp.jpg
ORGANIZER;CN="WHPS Sports Camps":MAILTO:thesportscoachuk@gmail.com
END:VEVENT
END:VCALENDAR