BEGIN:VCALENDAR
VERSION:2.0
PRODID:-//Warden Hill Primary School - ECPv6.15.20//NONSGML v1.0//EN
CALSCALE:GREGORIAN
METHOD:PUBLISH
X-WR-CALNAME:Warden Hill Primary School
X-ORIGINAL-URL:https://wardenhill.gloucs.sch.uk
X-WR-CALDESC:Events for Warden Hill Primary School
REFRESH-INTERVAL;VALUE=DURATION:PT1H
X-Robots-Tag:noindex
X-PUBLISHED-TTL:PT1H
BEGIN:VTIMEZONE
TZID:Europe/London
BEGIN:DAYLIGHT
TZOFFSETFROM:+0000
TZOFFSETTO:+0100
TZNAME:BST
DTSTART:20240331T010000
END:DAYLIGHT
BEGIN:STANDARD
TZOFFSETFROM:+0100
TZOFFSETTO:+0000
TZNAME:GMT
DTSTART:20241027T010000
END:STANDARD
BEGIN:DAYLIGHT
TZOFFSETFROM:+0000
TZOFFSETTO:+0100
TZNAME:BST
DTSTART:20250330T010000
END:DAYLIGHT
BEGIN:STANDARD
TZOFFSETFROM:+0100
TZOFFSETTO:+0000
TZNAME:GMT
DTSTART:20251026T010000
END:STANDARD
BEGIN:DAYLIGHT
TZOFFSETFROM:+0000
TZOFFSETTO:+0100
TZNAME:BST
DTSTART:20260329T010000
END:DAYLIGHT
BEGIN:STANDARD
TZOFFSETFROM:+0100
TZOFFSETTO:+0000
TZNAME:GMT
DTSTART:20261025T010000
END:STANDARD
END:VTIMEZONE
BEGIN:VEVENT
DTSTART;TZID=Europe/London:20250212T131500
DTEND;TZID=Europe/London:20250212T150000
DTSTAMP:20260424T122258
CREATED:20241216T113517Z
LAST-MODIFIED:20250116T120518Z
UID:10000010-1739366100-1739372400@wardenhill.gloucs.sch.uk
SUMMARY:2T Forest School
DESCRIPTION:
URL:https://wardenhill.gloucs.sch.uk/event/2t-forest-school/2025-02-12/
LOCATION:Warden Hill Primary School\, Durham Close\, Cheltenham\, Gloucestershire\, GL51 3DF\, United Kingdom
CATEGORIES:Forest School,Year 2
END:VEVENT
BEGIN:VEVENT
DTSTART;VALUE=DATE:20250213
DTEND;VALUE=DATE:20250214
DTSTAMP:20260424T122258
CREATED:20250116T123751Z
LAST-MODIFIED:20250116T123819Z
UID:10000019-1739404800-1739491199@wardenhill.gloucs.sch.uk
SUMMARY:Reception Towers and Turrets Day
DESCRIPTION:We will be having a day full of medieval fun and a royal ball! \nWe would like the children to come to school that day dressed up as something related to this (prince/princess/king/queen/dragon/knight etc).
URL:https://wardenhill.gloucs.sch.uk/event/reception-towers-and-turrets-day/
LOCATION:Warden Hill Primary School\, Durham Close\, Cheltenham\, Gloucestershire\, GL51 3DF\, United Kingdom
END:VEVENT
BEGIN:VEVENT
DTSTART;VALUE=DATE:20250214
DTEND;VALUE=DATE:20250215
DTSTAMP:20260424T122258
CREATED:20250116T132256Z
LAST-MODIFIED:20250116T132800Z
UID:10000020-1739491200-1739577599@wardenhill.gloucs.sch.uk
SUMMARY:Non-uniform Day for Winning House
DESCRIPTION:
URL:https://wardenhill.gloucs.sch.uk/event/non-uniform-day-for-winning-house/
CATEGORIES:House Events,Whole School
END:VEVENT
END:VCALENDAR