BEGIN:VCALENDAR
VERSION:2.0
PRODID:-//Warden Hill Primary School - ECPv6.15.20//NONSGML v1.0//EN
CALSCALE:GREGORIAN
METHOD:PUBLISH
X-ORIGINAL-URL:https://wardenhill.gloucs.sch.uk
X-WR-CALDESC:Events for Warden Hill Primary School
REFRESH-INTERVAL;VALUE=DURATION:PT1H
X-Robots-Tag:noindex
X-PUBLISHED-TTL:PT1H
BEGIN:VTIMEZONE
TZID:Europe/London
BEGIN:DAYLIGHT
TZOFFSETFROM:+0000
TZOFFSETTO:+0100
TZNAME:BST
DTSTART:20240331T010000
END:DAYLIGHT
BEGIN:STANDARD
TZOFFSETFROM:+0100
TZOFFSETTO:+0000
TZNAME:GMT
DTSTART:20241027T010000
END:STANDARD
BEGIN:DAYLIGHT
TZOFFSETFROM:+0000
TZOFFSETTO:+0100
TZNAME:BST
DTSTART:20250330T010000
END:DAYLIGHT
BEGIN:STANDARD
TZOFFSETFROM:+0100
TZOFFSETTO:+0000
TZNAME:GMT
DTSTART:20251026T010000
END:STANDARD
BEGIN:DAYLIGHT
TZOFFSETFROM:+0000
TZOFFSETTO:+0100
TZNAME:BST
DTSTART:20260329T010000
END:DAYLIGHT
BEGIN:STANDARD
TZOFFSETFROM:+0100
TZOFFSETTO:+0000
TZNAME:GMT
DTSTART:20261025T010000
END:STANDARD
END:VTIMEZONE
BEGIN:VEVENT
DTSTART;VALUE=DATE:20250217
DTEND;VALUE=DATE:20250222
DTSTAMP:20260424T105908
CREATED:20241216T114752Z
LAST-MODIFIED:20241216T114752Z
UID:10000012-1739750400-1740182399@wardenhill.gloucs.sch.uk
SUMMARY:Half Term
DESCRIPTION:
URL:https://wardenhill.gloucs.sch.uk/event/half-term/
CATEGORIES:Term Dates,Whole School
END:VEVENT
BEGIN:VEVENT
DTSTART;TZID=Europe/London:20250217T083000
DTEND;TZID=Europe/London:20250217T160000
DTSTAMP:20260424T105908
CREATED:20250120T111058Z
LAST-MODIFIED:20250120T113014Z
UID:10000117-1739781000-1739808000@wardenhill.gloucs.sch.uk
SUMMARY:WHPS Sports Camp
DESCRIPTION:Fees apply\n\nCoach: Jamie Roberts\nthesportscoachuk@gmail.com \n\n50% of all camp profits go towards school projects\nOnly WHPS registered children can attend\nChildren are safe and in a secure\, friendly and familiar environment\nChildren are surrounded by friends and recognisable faces\nCoaches are qualified\, DBS checked & Sports Camp is fully insured\nOfsted registered camp – REF NO: 2695197 – all childcare schemes (vouchers) are accepted.\n\n\n\n\n\n\nBook your places here\n\n\n\n\nStandard 10% Sibling Discount – GWH850
URL:https://wardenhill.gloucs.sch.uk/event/whps-sports-camp/2025-02-17/
LOCATION:Warden Hill Primary School\, Durham Close\, Cheltenham\, Gloucestershire\, GL51 3DF\, United Kingdom
CATEGORIES:Whole School,WHPS Sports Camp
ORGANIZER;CN="WHPS Sports Camps":MAILTO:thesportscoachuk@gmail.com
END:VEVENT
BEGIN:VEVENT
DTSTART;TZID=Europe/London:20250218T083000
DTEND;TZID=Europe/London:20250218T160000
DTSTAMP:20260424T105908
CREATED:20250120T111058Z
LAST-MODIFIED:20250120T113014Z
UID:10000118-1739867400-1739894400@wardenhill.gloucs.sch.uk
SUMMARY:WHPS Sports Camp
DESCRIPTION:Fees apply\n\nCoach: Jamie Roberts\nthesportscoachuk@gmail.com \n\n50% of all camp profits go towards school projects\nOnly WHPS registered children can attend\nChildren are safe and in a secure\, friendly and familiar environment\nChildren are surrounded by friends and recognisable faces\nCoaches are qualified\, DBS checked & Sports Camp is fully insured\nOfsted registered camp – REF NO: 2695197 – all childcare schemes (vouchers) are accepted.\n\n\n\n\n\n\nBook your places here\n\n\n\n\nStandard 10% Sibling Discount – GWH850
URL:https://wardenhill.gloucs.sch.uk/event/whps-sports-camp/2025-02-18/
LOCATION:Warden Hill Primary School\, Durham Close\, Cheltenham\, Gloucestershire\, GL51 3DF\, United Kingdom
CATEGORIES:Whole School,WHPS Sports Camp
ORGANIZER;CN="WHPS Sports Camps":MAILTO:thesportscoachuk@gmail.com
END:VEVENT
BEGIN:VEVENT
DTSTART;TZID=Europe/London:20250219T083000
DTEND;TZID=Europe/London:20250219T160000
DTSTAMP:20260424T105908
CREATED:20250120T111058Z
LAST-MODIFIED:20250120T113014Z
UID:10000119-1739953800-1739980800@wardenhill.gloucs.sch.uk
SUMMARY:WHPS Sports Camp
DESCRIPTION:Fees apply\n\nCoach: Jamie Roberts\nthesportscoachuk@gmail.com \n\n50% of all camp profits go towards school projects\nOnly WHPS registered children can attend\nChildren are safe and in a secure\, friendly and familiar environment\nChildren are surrounded by friends and recognisable faces\nCoaches are qualified\, DBS checked & Sports Camp is fully insured\nOfsted registered camp – REF NO: 2695197 – all childcare schemes (vouchers) are accepted.\n\n\n\n\n\n\nBook your places here\n\n\n\n\nStandard 10% Sibling Discount – GWH850
URL:https://wardenhill.gloucs.sch.uk/event/whps-sports-camp/2025-02-19/
LOCATION:Warden Hill Primary School\, Durham Close\, Cheltenham\, Gloucestershire\, GL51 3DF\, United Kingdom
CATEGORIES:Whole School,WHPS Sports Camp
ORGANIZER;CN="WHPS Sports Camps":MAILTO:thesportscoachuk@gmail.com
END:VEVENT
BEGIN:VEVENT
DTSTART;TZID=Europe/London:20250220T083000
DTEND;TZID=Europe/London:20250220T160000
DTSTAMP:20260424T105908
CREATED:20250120T111058Z
LAST-MODIFIED:20250120T113014Z
UID:10000120-1740040200-1740067200@wardenhill.gloucs.sch.uk
SUMMARY:WHPS Sports Camp
DESCRIPTION:Fees apply\n\nCoach: Jamie Roberts\nthesportscoachuk@gmail.com \n\n50% of all camp profits go towards school projects\nOnly WHPS registered children can attend\nChildren are safe and in a secure\, friendly and familiar environment\nChildren are surrounded by friends and recognisable faces\nCoaches are qualified\, DBS checked & Sports Camp is fully insured\nOfsted registered camp – REF NO: 2695197 – all childcare schemes (vouchers) are accepted.\n\n\n\n\n\n\nBook your places here\n\n\n\n\nStandard 10% Sibling Discount – GWH850
URL:https://wardenhill.gloucs.sch.uk/event/whps-sports-camp/2025-02-20/
LOCATION:Warden Hill Primary School\, Durham Close\, Cheltenham\, Gloucestershire\, GL51 3DF\, United Kingdom
CATEGORIES:Whole School,WHPS Sports Camp
ORGANIZER;CN="WHPS Sports Camps":MAILTO:thesportscoachuk@gmail.com
END:VEVENT
BEGIN:VEVENT
DTSTART;TZID=Europe/London:20250221T083000
DTEND;TZID=Europe/London:20250221T160000
DTSTAMP:20260424T105908
CREATED:20250120T111058Z
LAST-MODIFIED:20250120T113014Z
UID:10000121-1740126600-1740153600@wardenhill.gloucs.sch.uk
SUMMARY:WHPS Sports Camp
DESCRIPTION:Fees apply\n\nCoach: Jamie Roberts\nthesportscoachuk@gmail.com \n\n50% of all camp profits go towards school projects\nOnly WHPS registered children can attend\nChildren are safe and in a secure\, friendly and familiar environment\nChildren are surrounded by friends and recognisable faces\nCoaches are qualified\, DBS checked & Sports Camp is fully insured\nOfsted registered camp – REF NO: 2695197 – all childcare schemes (vouchers) are accepted.\n\n\n\n\n\n\nBook your places here\n\n\n\n\nStandard 10% Sibling Discount – GWH850
URL:https://wardenhill.gloucs.sch.uk/event/whps-sports-camp/2025-02-21/
LOCATION:Warden Hill Primary School\, Durham Close\, Cheltenham\, Gloucestershire\, GL51 3DF\, United Kingdom
CATEGORIES:Whole School,WHPS Sports Camp
ORGANIZER;CN="WHPS Sports Camps":MAILTO:thesportscoachuk@gmail.com
END:VEVENT
END:VCALENDAR