BEGIN:VCALENDAR
VERSION:2.0
PRODID:-//Warden Hill Primary School - ECPv6.15.20//NONSGML v1.0//EN
CALSCALE:GREGORIAN
METHOD:PUBLISH
X-WR-CALNAME:Warden Hill Primary School
X-ORIGINAL-URL:https://wardenhill.gloucs.sch.uk
X-WR-CALDESC:Events for Warden Hill Primary School
REFRESH-INTERVAL;VALUE=DURATION:PT1H
X-Robots-Tag:noindex
X-PUBLISHED-TTL:PT1H
BEGIN:VTIMEZONE
TZID:Europe/London
BEGIN:DAYLIGHT
TZOFFSETFROM:+0000
TZOFFSETTO:+0100
TZNAME:BST
DTSTART:20240331T010000
END:DAYLIGHT
BEGIN:STANDARD
TZOFFSETFROM:+0100
TZOFFSETTO:+0000
TZNAME:GMT
DTSTART:20241027T010000
END:STANDARD
BEGIN:DAYLIGHT
TZOFFSETFROM:+0000
TZOFFSETTO:+0100
TZNAME:BST
DTSTART:20250330T010000
END:DAYLIGHT
BEGIN:STANDARD
TZOFFSETFROM:+0100
TZOFFSETTO:+0000
TZNAME:GMT
DTSTART:20251026T010000
END:STANDARD
BEGIN:DAYLIGHT
TZOFFSETFROM:+0000
TZOFFSETTO:+0100
TZNAME:BST
DTSTART:20260329T010000
END:DAYLIGHT
BEGIN:STANDARD
TZOFFSETFROM:+0100
TZOFFSETTO:+0000
TZNAME:GMT
DTSTART:20261025T010000
END:STANDARD
END:VTIMEZONE
BEGIN:VEVENT
DTSTART;TZID=Europe/London:20250224T140000
DTEND;TZID=Europe/London:20250224T144000
DTSTAMP:20260424T105748
CREATED:20250116T134100Z
LAST-MODIFIED:20250116T134100Z
UID:10000021-1740405600-1740408000@wardenhill.gloucs.sch.uk
SUMMARY:Parents Prayer Group
DESCRIPTION:
URL:https://wardenhill.gloucs.sch.uk/event/parents-prayer-group/
LOCATION:Warden Hill Primary School\, Durham Close\, Cheltenham\, Gloucestershire\, GL51 3DF\, United Kingdom
CATEGORIES:Whole School
END:VEVENT
BEGIN:VEVENT
DTSTART;VALUE=DATE:20250225
DTEND;VALUE=DATE:20250227
DTSTAMP:20260424T105748
CREATED:20250116T140647Z
LAST-MODIFIED:20250116T140704Z
UID:10000022-1740441600-1740614399@wardenhill.gloucs.sch.uk
SUMMARY:National Child Measurement Programme
DESCRIPTION:
URL:https://wardenhill.gloucs.sch.uk/event/national-child-measurement-programme/
LOCATION:Warden Hill Primary School\, Durham Close\, Cheltenham\, Gloucestershire\, GL51 3DF\, United Kingdom
CATEGORIES:Reception,Year 6
END:VEVENT
BEGIN:VEVENT
DTSTART;TZID=Europe/London:20250226T130000
DTEND;TZID=Europe/London:20250226T143000
DTSTAMP:20260424T105748
CREATED:20250116T141725Z
LAST-MODIFIED:20250117T115622Z
UID:10000023-1740574800-1740580200@wardenhill.gloucs.sch.uk
SUMMARY:School Nursing Hub
DESCRIPTION:The School Nursing Service is offering a new style of supporting parents in the form of School Nursing Hubs. Parents who are referred to our service or who self-refer are invited to a group with other parents who have similar worries. \nThe group is facilitated by our Health and Wellbeing Assistants who are trained in the Solihull parenting approach and key public health topics\, so will be able to offer professional support and advice. The Health and Wellbeing Assistant may know of a local organisation or voluntary group that may be of interest to the parent\, so will signpost or refer them.
URL:https://wardenhill.gloucs.sch.uk/event/school-nursing-hub/
CATEGORIES:Whole School
END:VEVENT
BEGIN:VEVENT
DTSTART;TZID=Europe/London:20250226T131500
DTEND;TZID=Europe/London:20250226T150000
DTSTAMP:20260424T105748
CREATED:20250313T093524Z
LAST-MODIFIED:20250313T093524Z
UID:10000153-1740575700-1740582000@wardenhill.gloucs.sch.uk
SUMMARY:2R Forest School
DESCRIPTION:2R’s Forest School sessions will start on Wednesday 26 February. Please remember to send your child in with suitable kit. Children must have warm waterproof coats and wellies/old trainers as forest school can get very muddy. Please refer to our Forest School page for the details: \nForest School
URL:https://wardenhill.gloucs.sch.uk/event/2r-forest-school-2/2025-02-26/
CATEGORIES:Forest School,Year 2
ATTACH;FMTTYPE=image/jpeg:https://wardenhill.gloucs.sch.uk/wp-content/uploads/2025/03/Forest-School.jpg
END:VEVENT
END:VCALENDAR