BEGIN:VCALENDAR
VERSION:2.0
PRODID:-//Warden Hill Primary School - ECPv6.15.20//NONSGML v1.0//EN
CALSCALE:GREGORIAN
METHOD:PUBLISH
X-ORIGINAL-URL:https://wardenhill.gloucs.sch.uk
X-WR-CALDESC:Events for Warden Hill Primary School
REFRESH-INTERVAL;VALUE=DURATION:PT1H
X-Robots-Tag:noindex
X-PUBLISHED-TTL:PT1H
BEGIN:VTIMEZONE
TZID:Europe/London
BEGIN:DAYLIGHT
TZOFFSETFROM:+0000
TZOFFSETTO:+0100
TZNAME:BST
DTSTART:20240331T010000
END:DAYLIGHT
BEGIN:STANDARD
TZOFFSETFROM:+0100
TZOFFSETTO:+0000
TZNAME:GMT
DTSTART:20241027T010000
END:STANDARD
BEGIN:DAYLIGHT
TZOFFSETFROM:+0000
TZOFFSETTO:+0100
TZNAME:BST
DTSTART:20250330T010000
END:DAYLIGHT
BEGIN:STANDARD
TZOFFSETFROM:+0100
TZOFFSETTO:+0000
TZNAME:GMT
DTSTART:20251026T010000
END:STANDARD
BEGIN:DAYLIGHT
TZOFFSETFROM:+0000
TZOFFSETTO:+0100
TZNAME:BST
DTSTART:20260329T010000
END:DAYLIGHT
BEGIN:STANDARD
TZOFFSETFROM:+0100
TZOFFSETTO:+0000
TZNAME:GMT
DTSTART:20261025T010000
END:STANDARD
END:VTIMEZONE
BEGIN:VEVENT
DTSTART;TZID=Europe/London:20250304T143000
DTEND;TZID=Europe/London:20250304T150000
DTSTAMP:20260424T095017
CREATED:20250116T141846Z
LAST-MODIFIED:20250116T142946Z
UID:10000024-1741098600-1741100400@wardenhill.gloucs.sch.uk
SUMMARY:Year 3 Assembly to Parents
DESCRIPTION:
URL:https://wardenhill.gloucs.sch.uk/event/year-3-assembly-to-parents/
CATEGORIES:Year 3
END:VEVENT
BEGIN:VEVENT
DTSTART;TZID=Europe/London:20250305T131500
DTEND;TZID=Europe/London:20250305T150000
DTSTAMP:20260424T095017
CREATED:20250313T093524Z
LAST-MODIFIED:20250313T093524Z
UID:10000154-1741180500-1741186800@wardenhill.gloucs.sch.uk
SUMMARY:2R Forest School
DESCRIPTION:2R’s Forest School sessions will start on Wednesday 26 February. Please remember to send your child in with suitable kit. Children must have warm waterproof coats and wellies/old trainers as forest school can get very muddy. Please refer to our Forest School page for the details: \nForest School
URL:https://wardenhill.gloucs.sch.uk/event/2r-forest-school-2/2025-03-05/
CATEGORIES:Forest School,Year 2
ATTACH;FMTTYPE=image/jpeg:https://wardenhill.gloucs.sch.uk/wp-content/uploads/2025/03/Forest-School.jpg
END:VEVENT
BEGIN:VEVENT
DTSTART;VALUE=DATE:20250306
DTEND;VALUE=DATE:20250307
DTSTAMP:20260424T095017
CREATED:20250116T143143Z
LAST-MODIFIED:20250116T143923Z
UID:10000025-1741219200-1741305599@wardenhill.gloucs.sch.uk
SUMMARY:World Book Day
DESCRIPTION:https://www.worldbookday.com/celebrating-world-book-day/ \n  \nhttps://www.worldbookday.com/books-and-tokens/books/
URL:https://wardenhill.gloucs.sch.uk/event/world-book-day/
CATEGORIES:Whole School
END:VEVENT
BEGIN:VEVENT
DTSTART;VALUE=DATE:20250307
DTEND;VALUE=DATE:20250308
DTSTAMP:20260424T095017
CREATED:20250116T144113Z
LAST-MODIFIED:20250116T144113Z
UID:10000026-1741305600-1741391999@wardenhill.gloucs.sch.uk
SUMMARY:House Frisbee
DESCRIPTION:
URL:https://wardenhill.gloucs.sch.uk/event/house-frisbee/
CATEGORIES:House Events
END:VEVENT
END:VCALENDAR