BEGIN:VCALENDAR
VERSION:2.0
PRODID:-//Warden Hill Primary School - ECPv6.15.20//NONSGML v1.0//EN
CALSCALE:GREGORIAN
METHOD:PUBLISH
X-WR-CALNAME:Warden Hill Primary School
X-ORIGINAL-URL:https://wardenhill.gloucs.sch.uk
X-WR-CALDESC:Events for Warden Hill Primary School
REFRESH-INTERVAL;VALUE=DURATION:PT1H
X-Robots-Tag:noindex
X-PUBLISHED-TTL:PT1H
BEGIN:VTIMEZONE
TZID:Europe/London
BEGIN:DAYLIGHT
TZOFFSETFROM:+0000
TZOFFSETTO:+0100
TZNAME:BST
DTSTART:20240331T010000
END:DAYLIGHT
BEGIN:STANDARD
TZOFFSETFROM:+0100
TZOFFSETTO:+0000
TZNAME:GMT
DTSTART:20241027T010000
END:STANDARD
BEGIN:DAYLIGHT
TZOFFSETFROM:+0000
TZOFFSETTO:+0100
TZNAME:BST
DTSTART:20250330T010000
END:DAYLIGHT
BEGIN:STANDARD
TZOFFSETFROM:+0100
TZOFFSETTO:+0000
TZNAME:GMT
DTSTART:20251026T010000
END:STANDARD
BEGIN:DAYLIGHT
TZOFFSETFROM:+0000
TZOFFSETTO:+0100
TZNAME:BST
DTSTART:20260329T010000
END:DAYLIGHT
BEGIN:STANDARD
TZOFFSETFROM:+0100
TZOFFSETTO:+0000
TZNAME:GMT
DTSTART:20261025T010000
END:STANDARD
END:VTIMEZONE
BEGIN:VEVENT
DTSTART;TZID=Europe/London:20250317T100000
DTEND;TZID=Europe/London:20250317T120000
DTSTAMP:20260424T092952
CREATED:20250313T092916Z
LAST-MODIFIED:20250313T093237Z
UID:10000152-1742205600-1742212800@wardenhill.gloucs.sch.uk
SUMMARY:Year 3 WCET Concert
DESCRIPTION:The event will see classes from across the county collaborate on stage and perform selected music chosen and directed by the GM WCET Tutor. The event is from 10.00am – 12.00pm and is a fantastic opportunity for your child to play music as part of a large ensemble in one of Gloucestershire’s premier performance venues.
URL:https://wardenhill.gloucs.sch.uk/event/year-3-wcet-concert/
LOCATION:Cheltenham Town Hall
CATEGORIES:Year 3
ATTACH;FMTTYPE=image/jpeg:https://wardenhill.gloucs.sch.uk/wp-content/uploads/2025/03/town-hall.jpg
END:VEVENT
BEGIN:VEVENT
DTSTART;TZID=Europe/London:20250317T140000
DTEND;TZID=Europe/London:20250317T144000
DTSTAMP:20260424T092952
CREATED:20250116T145134Z
LAST-MODIFIED:20250116T145134Z
UID:10000084-1742220000-1742222400@wardenhill.gloucs.sch.uk
SUMMARY:Parents' Prayer Group
DESCRIPTION:
URL:https://wardenhill.gloucs.sch.uk/event/parents-prayer-group-2/
LOCATION:Warden Hill Primary School\, Durham Close\, Cheltenham\, Gloucestershire\, GL51 3DF\, United Kingdom
CATEGORIES:Whole School
END:VEVENT
BEGIN:VEVENT
DTSTART;TZID=Europe/London:20250319T131500
DTEND;TZID=Europe/London:20250319T150000
DTSTAMP:20260424T092952
CREATED:20250313T093524Z
LAST-MODIFIED:20250313T093524Z
UID:10000156-1742390100-1742396400@wardenhill.gloucs.sch.uk
SUMMARY:2R Forest School
DESCRIPTION:2R’s Forest School sessions will start on Wednesday 26 February. Please remember to send your child in with suitable kit. Children must have warm waterproof coats and wellies/old trainers as forest school can get very muddy. Please refer to our Forest School page for the details: \nForest School
URL:https://wardenhill.gloucs.sch.uk/event/2r-forest-school-2/2025-03-19/
CATEGORIES:Forest School,Year 2
ATTACH;FMTTYPE=image/jpeg:https://wardenhill.gloucs.sch.uk/wp-content/uploads/2025/03/Forest-School.jpg
END:VEVENT
BEGIN:VEVENT
DTSTART;VALUE=DATE:20250321
DTEND;VALUE=DATE:20250322
DTSTAMP:20260424T092952
CREATED:20250116T150053Z
LAST-MODIFIED:20250313T093713Z
UID:10000085-1742515200-1742601599@wardenhill.gloucs.sch.uk
SUMMARY:House Orienteering
DESCRIPTION:
URL:https://wardenhill.gloucs.sch.uk/event/house-orienteering/
CATEGORIES:House Events,Whole School
ATTACH;FMTTYPE=image/jpeg:https://wardenhill.gloucs.sch.uk/wp-content/uploads/2025/01/orienteering.jpg
END:VEVENT
BEGIN:VEVENT
DTSTART;TZID=Europe/London:20250321T084500
DTEND;TZID=Europe/London:20250321T100000
DTSTAMP:20260424T092952
CREATED:20250313T093916Z
LAST-MODIFIED:20250313T094009Z
UID:10000158-1742546700-1742551200@wardenhill.gloucs.sch.uk
SUMMARY:Cuppa and Connect
DESCRIPTION:Dear Parents\, \nI am delighted to announce that our next Cuppa and Connect session will be delivered by Sam Stocken\, an Educational Consultant who specialises in behaviour as communication.\nSam is leading a bespoke session on supporting your child outside of school. Please see a short introductory video from Sam and\, if you think this is something you would value\, then please book your place on Ticktsource. I will be there to introduce Sam and then leave to allow you all to speak freely and get as much from Sam’s expertise as possible. \nThe support group runs over 2 separate dates (7 and 21 March)\, so please check them before you commit to the booking. School is funding both of these sessions and therefore places are limited to 25. If this is something more parents would like\, I will look to organise an evening event in the near future. \nGeorgina Flooks\nHeadteacher \n  \nCome and join Sam Stocken\, Educational Consultant\, from For The Child Ltd\, to celebrate what you are doing well. You will also have the opportunity to pick up tips on how to support your child outside of school and hear from a specialist of ‘Behaviour As Communication’. \n  \nhttps://www.forthechild.co.uk/
URL:https://wardenhill.gloucs.sch.uk/event/cuppa-and-connect-2/
CATEGORIES:Parents
ATTACH;FMTTYPE=image/jpeg:https://wardenhill.gloucs.sch.uk/wp-content/uploads/2025/03/cuppa-and-connect.jpg
END:VEVENT
END:VCALENDAR