BEGIN:VCALENDAR
VERSION:2.0
PRODID:-//Warden Hill Primary School - ECPv6.15.20//NONSGML v1.0//EN
CALSCALE:GREGORIAN
METHOD:PUBLISH
X-WR-CALNAME:Warden Hill Primary School
X-ORIGINAL-URL:https://wardenhill.gloucs.sch.uk
X-WR-CALDESC:Events for Warden Hill Primary School
REFRESH-INTERVAL;VALUE=DURATION:PT1H
X-Robots-Tag:noindex
X-PUBLISHED-TTL:PT1H
BEGIN:VTIMEZONE
TZID:Europe/London
BEGIN:DAYLIGHT
TZOFFSETFROM:+0000
TZOFFSETTO:+0100
TZNAME:BST
DTSTART:20240331T010000
END:DAYLIGHT
BEGIN:STANDARD
TZOFFSETFROM:+0100
TZOFFSETTO:+0000
TZNAME:GMT
DTSTART:20241027T010000
END:STANDARD
BEGIN:DAYLIGHT
TZOFFSETFROM:+0000
TZOFFSETTO:+0100
TZNAME:BST
DTSTART:20250330T010000
END:DAYLIGHT
BEGIN:STANDARD
TZOFFSETFROM:+0100
TZOFFSETTO:+0000
TZNAME:GMT
DTSTART:20251026T010000
END:STANDARD
BEGIN:DAYLIGHT
TZOFFSETFROM:+0000
TZOFFSETTO:+0100
TZNAME:BST
DTSTART:20260329T010000
END:DAYLIGHT
BEGIN:STANDARD
TZOFFSETFROM:+0100
TZOFFSETTO:+0000
TZNAME:GMT
DTSTART:20261025T010000
END:STANDARD
END:VTIMEZONE
BEGIN:VEVENT
DTSTART;VALUE=DATE:20250324
DTEND;VALUE=DATE:20250405
DTSTAMP:20260424T093025
CREATED:20250116T150613Z
LAST-MODIFIED:20250313T094220Z
UID:10000087-1742774400-1743811199@wardenhill.gloucs.sch.uk
SUMMARY:Sustrans Big Walk and Wheel
DESCRIPTION:
URL:https://wardenhill.gloucs.sch.uk/event/sustrans-big-walk-and-wheel/
CATEGORIES:Whole School
ATTACH;FMTTYPE=image/png:https://wardenhill.gloucs.sch.uk/wp-content/uploads/2025/01/sustrans.png
END:VEVENT
BEGIN:VEVENT
DTSTART;TZID=Europe/London:20250331T160000
DTEND;TZID=Europe/London:20250331T170000
DTSTAMP:20260424T093025
CREATED:20250313T100615Z
LAST-MODIFIED:20250313T100615Z
UID:10000160-1743436800-1743440400@wardenhill.gloucs.sch.uk
SUMMARY:Gloucestershire Wildlife Quiz
DESCRIPTION:
URL:https://wardenhill.gloucs.sch.uk/event/gloucestershire-wildlife-quiz/
ATTACH;FMTTYPE=image/png:https://wardenhill.gloucs.sch.uk/wp-content/uploads/2025/03/WILDLIFE-QUIZ-POST.png
END:VEVENT
BEGIN:VEVENT
DTSTART;TZID=Europe/London:20250402T130000
DTEND;TZID=Europe/London:20250402T150000
DTSTAMP:20260424T093025
CREATED:20250331T094637Z
LAST-MODIFIED:20250331T094637Z
UID:10000176-1743598800-1743606000@wardenhill.gloucs.sch.uk
SUMMARY:RB Forest School
DESCRIPTION:
URL:https://wardenhill.gloucs.sch.uk/event/rb-forest-school/2025-04-02/
CATEGORIES:Forest School,Reception
ATTACH;FMTTYPE=image/jpeg:https://wardenhill.gloucs.sch.uk/wp-content/uploads/2025/03/Forest-School.jpg
END:VEVENT
BEGIN:VEVENT
DTSTART;TZID=Europe/London:20250403T160000
DTEND;TZID=Europe/London:20250403T180000
DTSTAMP:20260424T093025
CREATED:20250313T100734Z
LAST-MODIFIED:20250313T100800Z
UID:10000161-1743696000-1743703200@wardenhill.gloucs.sch.uk
SUMMARY:Rotary Primary School Quiz
DESCRIPTION:The Rotary Club of Cheltenham would like to invite all Primary Schools in the area to participate in a General Knowledge Quiz for children in year 6.  This popular annual event offers an exciting opportunity for challenge and fun to your talented children. The questions will be designed to be curriculum and age group compatible. \nThere will be 8 rounds in such subjects as: \nScience\, History\, Geography\, Maths\, English Grammar\, Sport\, Popular Culture General Knowledge \nOne team of 4 children per school initially may be entered. (Please let us know if you would like to enter more teams and we may be able to accommodate them). \nNext year’s event will be held at Warden Hill Primary School\, as they were winners in a very competitive event in 2024. \nVenue: Warden Hill Primary School\, Durham Close\, Cheltenham GL51 3DF\nPhone: 01242 523827\nEmail: admin@wardenhill.gloucs.sch.uk \nDate:  Thursday 3rd April 2025\nTime: 4:00 pm – 6:00 pm \nPrizes will be given to all participants and a small cup presented to the winning school. \nTo enter your team\, please contact David Price on dw.price@btinternet.com or mobile: 07803 601157 or email the school office: admin@wardenhill.gloucs.sch.uk
URL:https://wardenhill.gloucs.sch.uk/event/rotary-primary-school-quiz-2/
END:VEVENT
BEGIN:VEVENT
DTSTART;TZID=Europe/London:20250404T090000
DTEND;TZID=Europe/London:20250404T120000
DTSTAMP:20260424T093025
CREATED:20250331T094800Z
LAST-MODIFIED:20250331T094800Z
UID:10000181-1743757200-1743768000@wardenhill.gloucs.sch.uk
SUMMARY:Look Who's Talking Final
DESCRIPTION:
URL:https://wardenhill.gloucs.sch.uk/event/look-whos-talking-final/
END:VEVENT
END:VCALENDAR