BEGIN:VCALENDAR
VERSION:2.0
PRODID:-//Warden Hill Primary School - ECPv6.15.20//NONSGML v1.0//EN
CALSCALE:GREGORIAN
METHOD:PUBLISH
X-WR-CALNAME:Warden Hill Primary School
X-ORIGINAL-URL:https://wardenhill.gloucs.sch.uk
X-WR-CALDESC:Events for Warden Hill Primary School
REFRESH-INTERVAL;VALUE=DURATION:PT1H
X-Robots-Tag:noindex
X-PUBLISHED-TTL:PT1H
BEGIN:VTIMEZONE
TZID:Europe/London
BEGIN:DAYLIGHT
TZOFFSETFROM:+0000
TZOFFSETTO:+0100
TZNAME:BST
DTSTART:20240331T010000
END:DAYLIGHT
BEGIN:STANDARD
TZOFFSETFROM:+0100
TZOFFSETTO:+0000
TZNAME:GMT
DTSTART:20241027T010000
END:STANDARD
BEGIN:DAYLIGHT
TZOFFSETFROM:+0000
TZOFFSETTO:+0100
TZNAME:BST
DTSTART:20250330T010000
END:DAYLIGHT
BEGIN:STANDARD
TZOFFSETFROM:+0100
TZOFFSETTO:+0000
TZNAME:GMT
DTSTART:20251026T010000
END:STANDARD
BEGIN:DAYLIGHT
TZOFFSETFROM:+0000
TZOFFSETTO:+0100
TZNAME:BST
DTSTART:20260329T010000
END:DAYLIGHT
BEGIN:STANDARD
TZOFFSETFROM:+0100
TZOFFSETTO:+0000
TZNAME:GMT
DTSTART:20261025T010000
END:STANDARD
END:VTIMEZONE
BEGIN:VEVENT
DTSTART;VALUE=DATE:20250414
DTEND;VALUE=DATE:20250426
DTSTAMP:20260419T221825
CREATED:20250313T103421Z
LAST-MODIFIED:20250313T103421Z
UID:10000166-1744588800-1745625599@wardenhill.gloucs.sch.uk
SUMMARY:Easter Break
DESCRIPTION:
URL:https://wardenhill.gloucs.sch.uk/event/easter-break/
CATEGORIES:Term Dates
ATTACH;FMTTYPE=image/jpeg:https://wardenhill.gloucs.sch.uk/wp-content/uploads/2025/03/term-dates.jpg
END:VEVENT
BEGIN:VEVENT
DTSTART;TZID=Europe/London:20250422T093000
DTEND;TZID=Europe/London:20250422T170000
DTSTAMP:20260419T221825
CREATED:20250120T111653Z
LAST-MODIFIED:20250120T113130Z
UID:10000126-1745314200-1745341200@wardenhill.gloucs.sch.uk
SUMMARY:WHPS Sports Camp
DESCRIPTION:Fees apply\n\nCoach: Jamie Roberts\nthesportscoachuk@gmail.com \n\n50% of all camp profits go towards school projects\nOnly WHPS registered children can attend\nChildren are safe and in a secure\, friendly and familiar environment\nChildren are surrounded by friends and recognisable faces\nCoaches are qualified\, DBS checked & Sports Camp is fully insured\nOfsted registered camp – REF NO: 2695197 – all childcare schemes (vouchers) are accepted.\n\n\n\n\n\n\nBook your places here\n\n\n\n\nStandard 10% Sibling Discount – GWH850
URL:https://wardenhill.gloucs.sch.uk/event/whps-sports-camp-3/2025-04-22/
LOCATION:Warden Hill Primary School\, Durham Close\, Cheltenham\, Gloucestershire\, GL51 3DF\, United Kingdom
CATEGORIES:Whole School,WHPS Sports Camp
ORGANIZER;CN="WHPS Sports Camps":MAILTO:thesportscoachuk@gmail.com
END:VEVENT
BEGIN:VEVENT
DTSTART;TZID=Europe/London:20250423T093000
DTEND;TZID=Europe/London:20250423T170000
DTSTAMP:20260419T221825
CREATED:20250120T111653Z
LAST-MODIFIED:20250120T113130Z
UID:10000127-1745400600-1745427600@wardenhill.gloucs.sch.uk
SUMMARY:WHPS Sports Camp
DESCRIPTION:Fees apply\n\nCoach: Jamie Roberts\nthesportscoachuk@gmail.com \n\n50% of all camp profits go towards school projects\nOnly WHPS registered children can attend\nChildren are safe and in a secure\, friendly and familiar environment\nChildren are surrounded by friends and recognisable faces\nCoaches are qualified\, DBS checked & Sports Camp is fully insured\nOfsted registered camp – REF NO: 2695197 – all childcare schemes (vouchers) are accepted.\n\n\n\n\n\n\nBook your places here\n\n\n\n\nStandard 10% Sibling Discount – GWH850
URL:https://wardenhill.gloucs.sch.uk/event/whps-sports-camp-3/2025-04-23/
LOCATION:Warden Hill Primary School\, Durham Close\, Cheltenham\, Gloucestershire\, GL51 3DF\, United Kingdom
CATEGORIES:Whole School,WHPS Sports Camp
ORGANIZER;CN="WHPS Sports Camps":MAILTO:thesportscoachuk@gmail.com
END:VEVENT
BEGIN:VEVENT
DTSTART;TZID=Europe/London:20250424T093000
DTEND;TZID=Europe/London:20250424T170000
DTSTAMP:20260419T221825
CREATED:20250120T111653Z
LAST-MODIFIED:20250120T113130Z
UID:10000128-1745487000-1745514000@wardenhill.gloucs.sch.uk
SUMMARY:WHPS Sports Camp
DESCRIPTION:Fees apply\n\nCoach: Jamie Roberts\nthesportscoachuk@gmail.com \n\n50% of all camp profits go towards school projects\nOnly WHPS registered children can attend\nChildren are safe and in a secure\, friendly and familiar environment\nChildren are surrounded by friends and recognisable faces\nCoaches are qualified\, DBS checked & Sports Camp is fully insured\nOfsted registered camp – REF NO: 2695197 – all childcare schemes (vouchers) are accepted.\n\n\n\n\n\n\nBook your places here\n\n\n\n\nStandard 10% Sibling Discount – GWH850
URL:https://wardenhill.gloucs.sch.uk/event/whps-sports-camp-3/2025-04-24/
LOCATION:Warden Hill Primary School\, Durham Close\, Cheltenham\, Gloucestershire\, GL51 3DF\, United Kingdom
CATEGORIES:Whole School,WHPS Sports Camp
ORGANIZER;CN="WHPS Sports Camps":MAILTO:thesportscoachuk@gmail.com
END:VEVENT
BEGIN:VEVENT
DTSTART;TZID=Europe/London:20250425T093000
DTEND;TZID=Europe/London:20250425T170000
DTSTAMP:20260419T221825
CREATED:20250120T111653Z
LAST-MODIFIED:20250120T113130Z
UID:10000129-1745573400-1745600400@wardenhill.gloucs.sch.uk
SUMMARY:WHPS Sports Camp
DESCRIPTION:Fees apply\n\nCoach: Jamie Roberts\nthesportscoachuk@gmail.com \n\n50% of all camp profits go towards school projects\nOnly WHPS registered children can attend\nChildren are safe and in a secure\, friendly and familiar environment\nChildren are surrounded by friends and recognisable faces\nCoaches are qualified\, DBS checked & Sports Camp is fully insured\nOfsted registered camp – REF NO: 2695197 – all childcare schemes (vouchers) are accepted.\n\n\n\n\n\n\nBook your places here\n\n\n\n\nStandard 10% Sibling Discount – GWH850
URL:https://wardenhill.gloucs.sch.uk/event/whps-sports-camp-3/2025-04-25/
LOCATION:Warden Hill Primary School\, Durham Close\, Cheltenham\, Gloucestershire\, GL51 3DF\, United Kingdom
CATEGORIES:Whole School,WHPS Sports Camp
ORGANIZER;CN="WHPS Sports Camps":MAILTO:thesportscoachuk@gmail.com
END:VEVENT
END:VCALENDAR